BEGIN:VCALENDAR
VERSION:2.0
PRODID:-//ChamberMaster//Event Calendar 2.0//EN
METHOD:PUBLISH
X-PUBLISHED-TTL:P3D
REFRESH-INTERVAL:P3D
CALSCALE:GREGORIAN
BEGIN:VEVENT
DTSTART:20201031T140000Z
DTEND:20201031T180000Z
X-MICROSOFT-CDO-ALLDAYEVENT:FALSE
SUMMARY:Dogtoberfest
DESCRIPTION:Calling all goblins\, witches\, canines too\, grab your best costume for a fun boo! We will have dog-related vendors\, doggy trick or treating\, puppacinos\, and a drink release! Enjoy Scratch Cupcakes from 11:00-1:00! See you there! Meet our Vendors: Oakies Designs Rewarded Rescues Francescon Portraiture Loving Paws Bakery A+A Unleashed Heel.Sit Humane Society of Scott County Wags for Wellness
X-ALT-DESC;FMTTYPE=text/html:Calling all goblins\, witches\, canines too\, grab your best costume for a fun boo! We will have dog-related vendors\, doggy trick or treating\, puppacinos\, and a drink release! Enjoy Scratch Cupcakes from 11:00-1:00! See you there! Meet our Vendors: Oakies Designs Rewarded Rescues Francescon Portraiture Loving Paws Bakery A+A Unleashed Heel.Sit Humane Society of Scott County Wags for Wellness
LOCATION:Iron + Grain Coffee House 585 12th Ave East Moline\, IL 61244 Inside The Rust Belt
UID:e.2843.18204
SEQUENCE:3
DTSTAMP:20260421T105807Z
URL:https://member.quadcitieschamber.com/events/details/dogtoberfest-18204
END:VEVENT

END:VCALENDAR
