BEGIN:VCALENDAR
VERSION:2.0
PRODID:-//ChamberMaster//Event Calendar 2.0//EN
METHOD:PUBLISH
X-PUBLISHED-TTL:P3D
REFRESH-INTERVAL:P3D
CALSCALE:GREGORIAN
BEGIN:VEVENT
DTSTART:20130423T210000Z
DTEND:20130423T213000Z
X-MICROSOFT-CDO-ALLDAYEVENT:FALSE
SUMMARY:Doland Jewelers Grand Opening & Ribbon Cutting
DESCRIPTION:Please help Doland Jewelers celebrate the Grand Opening of their new location and their 10 year anniversary in the Quad Cities on Tuesday\, April 23rd at 4:00pm – Located at 3865 Elmore Avenue in Davenport. Established over 25 years ago\, Doland Jewelers is a signature jewelry store in the Quad Cities\, specializing in custom designs\, bridal and fashion jewelry and home of the popular Something Borrowed program. Short tours\, diamond education and ring cleanings will be available\, as well as exclusive offers for ribbon cutting guests\, a drawing for a custom Doland Jewelers pendant\, and appetizers and wine tastings provided by The Grape Life. For more information\, or visit www.dolandjewelers.com.
X-ALT-DESC;FMTTYPE=text/html:<P style="MARGIN: 0in 0in 0pt" class=MsoNormal><FONT face=Calibri>Please help Doland Jewelers celebrate the Grand Opening of their new location and their 10 year anniversary in the Quad Cities on <B style="mso-bidi-font-weight: normal">Tuesday\, April 23<SUP>rd</SUP> at 4:00pm</B> – Located at 3865 Elmore Avenue in Davenport.<?xml:namespace prefix = o ns = "urn:schemas-microsoft-com:office:office" /><o:p></o:p></FONT></P><P style="MARGIN: 0in 0in 0pt" class=MsoNormal><o:p><FONT face=Calibri>&nbsp\;</FONT></o:p></P><P style="MARGIN: 0in 0in 0pt" class=MsoNormal><FONT face=Calibri>Established over 25 years ago\, Doland Jewelers is a signature jewelry store in the Quad Cities\, specializing in custom designs\, bridal and fashion jewelry and home of the popular Something Borrowed program.<o:p></o:p></FONT></P><P style="MARGIN: 0in 0in 0pt" class=MsoNormal><o:p><FONT face=Calibri>&nbsp\;</FONT></o:p></P><P style="MARGIN: 0in 0in 0pt" class=MsoNormal><FONT face=Calibri>Short tours\, diamond education and ring cleanings will be available\, as well as exclusive offers for ribbon cutting guests\, a drawing for a custom Doland Jewelers pendant\, and appetizers and wine tastings provided by The Grape Life.<o:p></o:p></FONT></P><P style="MARGIN: 0in 0in 0pt" class=MsoNormal><o:p><FONT face=Calibri>&nbsp\;</FONT></o:p></P><P style="MARGIN: 0in 0in 0pt" class=MsoNormal><FONT face=Calibri>For more information\, or visit </FONT><A href="http://www.dolandjewelers.com">www.dolandjewelers.com</A><FONT face=Calibri>.<o:p></o:p></FONT></P><P style="MARGIN: 0in 0in 0pt" class=MsoNormal><o:p><FONT face=Calibri></FONT></o:p>&nbsp\;</P>
LOCATION:Doland Jewelers3865 Elmore Avenue Davenport\, IA 52807
UID:e.2843.556
SEQUENCE:3
DTSTAMP:20260421T110618Z
URL:https://member.quadcitieschamber.com/events/details/doland-jewelers-grand-opening-ribbon-cutting-04-23-2013-556
END:VEVENT

END:VCALENDAR
