BEGIN:VCALENDAR
VERSION:2.0
PRODID:-//ChamberMaster//Event Calendar 2.0//EN
METHOD:PUBLISH
X-PUBLISHED-TTL:P3D
REFRESH-INTERVAL:P3D
CALSCALE:GREGORIAN
BEGIN:VEVENT
DTSTART:20140601T220000Z
DTEND:20140602T020000Z
X-MICROSOFT-CDO-ALLDAYEVENT:FALSE
SUMMARY:Donate\, Dine\, Dress Fine
DESCRIPTION:Help us celebrate our 6th anniversary at Bass Street Chop House in Moline featuring informal modeling of CAbi clothing and a chance to win a foursome of golf at Fyre Lake Golf Club.
X-ALT-DESC;FMTTYPE=text/html:Help us celebrate our 6th anniversary at Bass Street Chop House in Moline featuring informal modeling of CAbi clothing and a chance to win a foursome of golf at Fyre Lake Golf Club.
LOCATION:Bass Street Chop House1601 River Drive Moline\, IL 61265
UID:e.2843.27
SEQUENCE:3
DTSTAMP:20260422T111115Z
URL:https://member.quadcitieschamber.com/events/details/donate-dine-dress-fine-06-01-2014-27
END:VEVENT

END:VCALENDAR
