BEGIN:VCALENDAR
VERSION:2.0
PRODID:-//ChamberMaster//Event Calendar 2.0//EN
METHOD:PUBLISH
X-PUBLISHED-TTL:P3D
REFRESH-INTERVAL:P3D
CALSCALE:GREGORIAN
BEGIN:VEVENT
DTSTART:20190405T130000Z
DTEND:20190405T220000Z
X-MICROSOFT-CDO-ALLDAYEVENT:FALSE
SUMMARY:DOT Required Hazardous Materials Training #1240
DESCRIPTION:This course serves as the required training and refresher for shippers and handlers of hazardous materials. Topics include using a hazardous materials table\, shipping papers\, and preparation of packages for shippers and handlers. Participants are encouraged to bring questions and problems for class discussion. Call Eastern Iowa Community Colleges at 563.441.4100 to register.
X-ALT-DESC;FMTTYPE=text/html:This course serves as the required training and refresher for shippers and handlers of hazardous materials. Topics include using a hazardous materials table\, shipping papers\, and preparation of packages for shippers and handlers. Participants are encouraged to bring questions and problems for class discussion. Call Eastern Iowa Community Colleges at 563.441.4100 to register.
LOCATION:EICC Midwest Center for Public Safety Training\, 8200 N. Fairmount\, Davenport\, IA 52806
UID:e.2843.13842
SEQUENCE:3
DTSTAMP:20260422T162634Z
URL:https://member.quadcitieschamber.com/events/details/dot-required-hazardous-materials-training-1240-13842
END:VEVENT

END:VCALENDAR
