BEGIN:VCALENDAR
VERSION:2.0
PRODID:-//ChamberMaster//Event Calendar 2.0//EN
METHOD:PUBLISH
X-PUBLISHED-TTL:P3D
REFRESH-INTERVAL:P3D
CALSCALE:GREGORIAN
BEGIN:VEVENT
DTSTART:20110429T130000Z
DTEND:20110429T160000Z
X-MICROSOFT-CDO-ALLDAYEVENT:FALSE
SUMMARY:Downtown Bettendorf Cleanup
DESCRIPTION:Pitch In!  Help anytime or all day!Teams must register by April 20 All Volunteers Recieve:Free T-ShirtClean-up SuppliesAdmission to a Quad Cities River Bandits Game
X-ALT-DESC;FMTTYPE=text/html:<DIV>Pitch In!&nbsp\; Help anytime or all day!</DIV><DIV><EM>Teams must register by April 20</EM></DIV><DIV>&nbsp\;</DIV><DIV>All Volunteers Recieve:</DIV><DIV>Free T-Shirt</DIV><DIV>Clean-up Supplies</DIV><DIV>Admission to a Quad Cities River Bandits Game</DIV>
LOCATION:Downtown Bettendorf
UID:e.2843.160
SEQUENCE:3
DTSTAMP:20260423T024242Z
URL:https://member.quadcitieschamber.com/events/details/downtown-bettendorf-cleanup-04-29-2011-160
END:VEVENT

END:VCALENDAR
