BEGIN:VCALENDAR
VERSION:2.0
PRODID:-//ChamberMaster//Event Calendar 2.0//EN
METHOD:PUBLISH
X-PUBLISHED-TTL:P3D
REFRESH-INTERVAL:P3D
CALSCALE:GREGORIAN
BEGIN:VEVENT
DTSTART:20120125T220000Z
DTEND:20120125T223000Z
X-MICROSOFT-CDO-ALLDAYEVENT:FALSE
SUMMARY:Downtown Central Perk Ribbon Cutting
DESCRIPTION:Please help celebrate the Grand Opening of new member\, Downtown Central Perk!  A ribbon cutting is scheduled for Wednesday\, January 25th at 4pm at 228 W. 3rd Street in downtown Davenport. Highlights include: WE BUY FRESH. WE BUY LOCAL.·         Direct Trade Specialty Coffee and Tea·         QC’s Exclusive Vegetarian Coffee House·         Vegetarian & Vegan Entrees·         Fresh Fruit & Vegetable Juice Menue·         Open Mic Night – Saturdays\, 7-11pm·         Spoken Word/Poetry Night – Thursdays\, 7pm·         Chess Tournaments – Every Saturday at noon·         Free Patron WIFI Visit them at Facebook.com/DowntownCentralPerk
X-ALT-DESC;FMTTYPE=text/html:<DIV><P style="MARGIN: 0in 0in 0pt" class=MsoNormal><FONT face=Calibri>Please help celebrate the Grand Opening of new member\, Downtown Central Perk!<SPAN style="mso-spacerun: yes">&nbsp\; </SPAN>A ribbon cutting is scheduled for Wednesday\, January 25<SUP>th</SUP> at 4pm at 228 W. 3<SUP>rd</SUP> Street in downtown Davenport.</FONT></P><P style="MARGIN: 0in 0in 0pt" class=MsoNormal><?xml:namespace prefix = o ns = "urn:schemas-microsoft-com:office:office" /><o:p><FONT face=Calibri>&nbsp\;</FONT></o:p></P><P style="MARGIN: 0in 0in 0pt" class=MsoNormal><FONT face=Calibri>Highlights include:</FONT></P><P style="MARGIN: 0in 0in 0pt" class=MsoNormal><o:p><FONT face=Calibri>&nbsp\;</FONT></o:p></P><P style="MARGIN: 0in 0in 0pt" class=MsoNormal><FONT face=Calibri>WE BUY FRESH. WE BUY LOCAL.</FONT></P><P style="TEXT-INDENT: -0.25in\; MARGIN: 0in 0in 0pt 0.5in\; mso-list: l0 level1 lfo1" class=MsoListParagraph><SPAN style="FONT-FAMILY: Symbol\; mso-fareast-font-family: Symbol\; mso-bidi-font-family: Symbol"><SPAN style="mso-list: Ignore">·<SPAN style="FONT: 7pt 'Times New Roman'">&nbsp\;&nbsp\;&nbsp\;&nbsp\;&nbsp\;&nbsp\;&nbsp\;&nbsp\; </SPAN></SPAN></SPAN><FONT face=Calibri>Direct Trade Specialty Coffee and Tea</FONT></P><P style="TEXT-INDENT: -0.25in\; MARGIN: 0in 0in 0pt 0.5in\; mso-list: l0 level1 lfo1" class=MsoListParagraph><SPAN style="FONT-FAMILY: Symbol\; mso-fareast-font-family: Symbol\; mso-bidi-font-family: Symbol"><SPAN style="mso-list: Ignore">·<SPAN style="FONT: 7pt 'Times New Roman'">&nbsp\;&nbsp\;&nbsp\;&nbsp\;&nbsp\;&nbsp\;&nbsp\;&nbsp\; </SPAN></SPAN></SPAN><FONT face=Calibri>QC’s Exclusive Vegetarian Coffee House</FONT></P><P style="TEXT-INDENT: -0.25in\; MARGIN: 0in 0in 0pt 0.5in\; mso-list: l0 level1 lfo1" class=MsoListParagraph><SPAN style="FONT-FAMILY: Symbol\; mso-fareast-font-family: Symbol\; mso-bidi-font-family: Symbol"><SPAN style="mso-list: Ignore">·<SPAN style="FONT: 7pt 'Times New Roman'">&nbsp\;&nbsp\;&nbsp\;&nbsp\;&nbsp\;&nbsp\;&nbsp\;&nbsp\; </SPAN></SPAN></SPAN><FONT face=Calibri>Vegetarian &amp\; Vegan Entrees</FONT></P><P style="TEXT-INDENT: -0.25in\; MARGIN: 0in 0in 0pt 0.5in\; mso-list: l0 level1 lfo1" class=MsoListParagraph><SPAN style="FONT-FAMILY: Symbol\; mso-fareast-font-family: Symbol\; mso-bidi-font-family: Symbol"><SPAN style="mso-list: Ignore">·<SPAN style="FONT: 7pt 'Times New Roman'">&nbsp\;&nbsp\;&nbsp\;&nbsp\;&nbsp\;&nbsp\;&nbsp\;&nbsp\; </SPAN></SPAN></SPAN><FONT face=Calibri>Fresh Fruit &amp\; Vegetable Juice Menue</FONT></P><P style="TEXT-INDENT: -0.25in\; MARGIN: 0in 0in 0pt 0.5in\; mso-list: l0 level1 lfo1" class=MsoListParagraph><SPAN style="FONT-FAMILY: Symbol\; mso-fareast-font-family: Symbol\; mso-bidi-font-family: Symbol"><SPAN style="mso-list: Ignore">·<SPAN style="FONT: 7pt 'Times New Roman'">&nbsp\;&nbsp\;&nbsp\;&nbsp\;&nbsp\;&nbsp\;&nbsp\;&nbsp\; </SPAN></SPAN></SPAN><FONT face=Calibri>Open Mic Night – Saturdays\, 7-11pm</FONT></P><P style="TEXT-INDENT: -0.25in\; MARGIN: 0in 0in 0pt 0.5in\; mso-list: l0 level1 lfo1" class=MsoListParagraph><SPAN style="FONT-FAMILY: Symbol\; mso-fareast-font-family: Symbol\; mso-bidi-font-family: Symbol"><SPAN style="mso-list: Ignore">·<SPAN style="FONT: 7pt 'Times New Roman'">&nbsp\;&nbsp\;&nbsp\;&nbsp\;&nbsp\;&nbsp\;&nbsp\;&nbsp\; </SPAN></SPAN></SPAN><FONT face=Calibri>Spoken Word/Poetry Night – Thursdays\, 7pm</FONT></P><P style="TEXT-INDENT: -0.25in\; MARGIN: 0in 0in 0pt 0.5in\; mso-list: l0 level1 lfo1" class=MsoListParagraph><SPAN style="FONT-FAMILY: Symbol\; mso-fareast-font-family: Symbol\; mso-bidi-font-family: Symbol"><SPAN style="mso-list: Ignore">·<SPAN style="FONT: 7pt 'Times New Roman'">&nbsp\;&nbsp\;&nbsp\;&nbsp\;&nbsp\;&nbsp\;&nbsp\;&nbsp\; </SPAN></SPAN></SPAN><FONT face=Calibri>Chess Tournaments – Every Saturday at noon</FONT></P><P style="TEXT-INDENT: -0.25in\; MARGIN: 0in 0in 0pt 0.5in\; mso-list: l0 level1 lfo1" class=MsoListParagraph><SPAN style="FONT-FAMILY: Symbol\; mso-fareast-font-family: Symbol\; mso-bidi-font-family: Symbol"><SPAN style="mso-list: Ignore">·<SPAN style="FONT: 7pt 'Times New Roman'">&nbsp\;&nbsp\;&nbsp\;&nbsp\;&nbsp\;&nbsp\;&nbsp\;&nbsp\; </SPAN></SPAN></SPAN><FONT face=Calibri>Free Patron WIFI</FONT></P><P style="MARGIN: 0in 0in 0pt" class=MsoNormal><o:p><FONT face=Calibri>&nbsp\;</FONT></o:p></P><P style="MARGIN: 0in 0in 0pt" class=MsoNormal><FONT face=Calibri>Visit them at Facebook.com/DowntownCentralPerk</FONT></P></DIV>
LOCATION:Downtown Central Perk228 W. 3rd Street Davenport\, IA 52801
UID:e.2843.341
SEQUENCE:3
DTSTAMP:20260422T092953Z
URL:https://member.quadcitieschamber.com/events/details/downtown-central-perk-ribbon-cutting-01-25-2012-341
END:VEVENT

END:VCALENDAR
