BEGIN:VCALENDAR
VERSION:2.0
PRODID:-//ChamberMaster//Event Calendar 2.0//EN
METHOD:PUBLISH
X-PUBLISHED-TTL:P3D
REFRESH-INTERVAL:P3D
CALSCALE:GREGORIAN
BEGIN:VEVENT
DTSTART:20110429T140000Z
DTEND:20110429T230000Z
X-MICROSOFT-CDO-ALLDAYEVENT:FALSE
SUMMARY:Downtown Davenport Cleanup
DESCRIPTION:Pitch In!  Help anytime or all day!Teams must register by April 20 All Volunteers Recieve:Free T-ShirtClean-up SuppliesAdmission to a Quad Cities River Bandits Game
X-ALT-DESC;FMTTYPE=text/html:<DIV>Pitch In!  Help anytime or all day!</DIV><DIV><EM>Teams must register by April 20</EM></DIV><DIV> </DIV><DIV>All Volunteers Recieve:</DIV><DIV>Free T-Shirt</DIV><DIV>Clean-up Supplies</DIV><DIV>Admission to a Quad Cities River Bandits Game</DIV>
LOCATION:Downtown Davenport
UID:e.2843.159
SEQUENCE:3
DTSTAMP:20260423T005849Z
URL:https://member.quadcitieschamber.com/events/details/downtown-davenport-cleanup-04-29-2011-159
END:VEVENT

END:VCALENDAR
