BEGIN:VCALENDAR
VERSION:2.0
PRODID:-//ChamberMaster//Event Calendar 2.0//EN
METHOD:PUBLISH
X-PUBLISHED-TTL:P3D
REFRESH-INTERVAL:P3D
CALSCALE:GREGORIAN
BEGIN:VEVENT
DTSTART:20121001T050000Z
DTEND:20131231T060000Z
X-MICROSOFT-CDO-ALLDAYEVENT:FALSE
SUMMARY:Downtown Davenport Partnership
DESCRIPTION:Downtown Davenport Partnership
X-ALT-DESC;FMTTYPE=text/html:Downtown Davenport Partnership
LOCATION:Downtown Davenport
UID:e.2843.1675
SEQUENCE:3
DTSTAMP:20260421T091120Z
URL:https://member.quadcitieschamber.com/events/details/downtown-davenport-partnership-10-01-2012-1675
END:VEVENT

END:VCALENDAR
