BEGIN:VCALENDAR
VERSION:2.0
PRODID:-//ChamberMaster//Event Calendar 2.0//EN
METHOD:PUBLISH
X-PUBLISHED-TTL:P3D
REFRESH-INTERVAL:P3D
CALSCALE:GREGORIAN
BEGIN:VEVENT
DTSTART:20180612T123000Z
DTEND:20180612T140000Z
X-MICROSOFT-CDO-ALLDAYEVENT:FALSE
SUMMARY:Downtown Davenport Partnership Annual Meeting
DESCRIPTION:Downtown Davenport Partnership Annual Meeting\n\nRegistration Required: asalaverria@quadcitieschamber.com\n\nRSVP No Later Than June 8\n\n\n\nIf you're a property or business owner in the Downtown Davenport boundaries\, please consider joining us to learn more about ongoing projects\, plans\, and future development during the 2018 Downtown Davenport Partnership (DDP) Annual Meeting.\n\n\n\nThe DDP Annual Meeting will be held Tuesday\, June 12 from 8:00 a.m. to 9:30 a.m. in the Gold Room at Hotel Blackhawk. A free hot breakfast will be served\, and registration begins at 7:30 a.m.\n\n\n\nAs a business owner within the Self Supporting Municipal Improvement District (SSMID)\, you are strongly encouraged to attend this meeting. A wide range of topics will be discussed from economic development and marketing to festivals\, complete streets\, and clean and safe initiatives.
X-ALT-DESC;FMTTYPE=text/html:<p><span style="font-size:16px\;"><span style="font-family:arial\;"><strong>Downtown Davenport Partnership Annual Meeting<br />\nRegistration Required: <a href="mailto:asalaverria@quadcitieschamber.com?subject=RSVP%20DDP%20Annual%20Meeting">asalaverria@quadcitieschamber.com</a><br />\nRSVP No Later Than June 8</strong></span></span></p>\n\n<p><br />\n<span style="font-size:16px\;"><span style="font-family:arial\;">If you&rsquo\;re a property or business owner in the Downtown Davenport boundaries\, please consider joining us to learn more about ongoing projects\, plans\, and future development during the 2018 Downtown Davenport Partnership (DDP) Annual Meeting.<br />\n<br />\nThe DDP Annual Meeting will be held Tuesday\, June 12 from 8:00 a.m. to 9:30 a.m. in the Gold Room at Hotel Blackhawk. A free hot breakfast will be served\, and registration begins at 7:30 a.m.<br />\n<br />\nAs a business owner within the Self Supporting Municipal Improvement District (</span>SSMID)\, you are strongly encouraged to attend this meeting. A wide range of topics will be discussed from economic development and marketing to festivals\, complete streets\, and clean and safe initiatives.</span></p>\n
LOCATION:The Gold Room at Hotel Blackhawk 200 E 3rd St\, Davenport IA
UID:e.2843.2674
SEQUENCE:3
DTSTAMP:20260423T111032Z
URL:https://member.quadcitieschamber.com/events/details/downtown-davenport-partnership-annual-meeting-04-01-2017-2674
END:VEVENT

END:VCALENDAR
