BEGIN:VCALENDAR
VERSION:2.0
PRODID:-//ChamberMaster//Event Calendar 2.0//EN
METHOD:PUBLISH
X-PUBLISHED-TTL:P3D
REFRESH-INTERVAL:P3D
CALSCALE:GREGORIAN
BEGIN:VEVENT
DTSTART:20130510T210000Z
DTEND:20130510T213000Z
X-MICROSOFT-CDO-ALLDAYEVENT:FALSE
SUMMARY:Downtown Davenport Partnership Beautification Project Ribbon Cutting
DESCRIPTION:Please help the Downtown Davenport Partnership celebrate the annual hanging flower basket project with a ribbon cutting on Friday\, May 10th at 4:00pm.  Let’s plan to meet right outside the Quad Cities Chamber of Commerce office at 130 W. 2nd Street\, Davenport (corner of 2nd Street and Main Street).
X-ALT-DESC;FMTTYPE=text/html:<P style="MARGIN: 0in 0in 0pt" class=MsoNormal><FONT face=Calibri>Please help the Downtown Davenport Partnership celebrate the annual hanging flower basket project with a ribbon cutting on <B style="mso-bidi-font-weight: normal">Friday\, May 10<SUP>th</SUP> at 4:00pm</B>.<SPAN style="mso-spacerun: yes">&nbsp\; </SPAN>Let’s plan to meet right outside the Quad Cities Chamber of Commerce office at 130 W. 2<SUP>nd</SUP> Street\, Davenport (corner of 2<SUP>nd</SUP> Street and Main Street).<SPAN style="mso-spacerun: yes">&nbsp\; </SPAN></FONT><SPAN style="mso-no-proof: yes"><?xml:namespace prefix = o ns = "urn:schemas-microsoft-com:office:office" /><o:p></o:p></SPAN></P><DIV>&nbsp\;</DIV>
LOCATION:Quad Cities Chamber of Commerce130 West 2nd Street Davenport\, IA 52801
UID:e.2843.581
SEQUENCE:3
DTSTAMP:20260421T121324Z
URL:https://member.quadcitieschamber.com/events/details/downtown-davenport-partnership-beautification-project-ribbon-cutting-05-10-2013-581
END:VEVENT

END:VCALENDAR
