BEGIN:VCALENDAR
VERSION:2.0
PRODID:-//ChamberMaster//Event Calendar 2.0//EN
METHOD:PUBLISH
X-PUBLISHED-TTL:P3D
REFRESH-INTERVAL:P3D
CALSCALE:GREGORIAN
BEGIN:VEVENT
DTSTART:20120511T210000Z
DTEND:20120511T213000Z
X-MICROSOFT-CDO-ALLDAYEVENT:FALSE
SUMMARY:Downtown Davenport Partnership Beautification Project Ribbon Cutting
DESCRIPTION:Please help the Downtown Davenport Partnership celebrate the hanging flower basket project with a ribbon cutting on Friday\, May 11th at 4:00pm.  We can meet right outside the Quad Cities Chamber of Commerce office at 130 W. 2nd Street (corner of 2nd Street and Main Street in Downtown Davenport).  The weather prediction is sunny\, warm and beautiful!
X-ALT-DESC;FMTTYPE=text/html:<DIV style="FONT-FAMILY: Arial"><P style="MARGIN: 0in 0in 0pt" class=MsoNormal><FONT face=Calibri>Please help the Downtown Davenport Partnership celebrate the hanging flower basket project with a ribbon cutting on Friday\, May 11<SUP>th</SUP> at 4:00pm.<SPAN style="mso-spacerun: yes">&nbsp\; </SPAN>We can meet right outside the Quad Cities Chamber of Commerce office at 130 W. 2<SUP>nd</SUP> Street (corner of 2<SUP>nd</SUP> Street and Main Street in Downtown Davenport).<SPAN style="mso-spacerun: yes">&nbsp\; </SPAN>The weather prediction is sunny\, warm and beautiful!<SPAN style="mso-no-proof: yes"> <?xml:namespace prefix = o ns = "urn:schemas-microsoft-com:office:office" /><o:p></o:p></SPAN></FONT></P></DIV>
LOCATION:Quad Cities Chamber of Commerce130 West 2nd Street Davenport\, IA 52801
UID:e.2843.376
SEQUENCE:3
DTSTAMP:20260422T013327Z
URL:https://member.quadcitieschamber.com/events/details/downtown-davenport-partnership-beautification-project-ribbon-cutting-05-11-2012-376
END:VEVENT

END:VCALENDAR
