BEGIN:VCALENDAR
VERSION:2.0
PRODID:-//ChamberMaster//Event Calendar 2.0//EN
METHOD:PUBLISH
X-PUBLISHED-TTL:P3D
REFRESH-INTERVAL:P3D
CALSCALE:GREGORIAN
BEGIN:VEVENT
DTSTART:20130925T190000Z
DTEND:20130925T193000Z
X-MICROSOFT-CDO-ALLDAYEVENT:FALSE
SUMMARY:Downtown Deli Ribbon Cutting
DESCRIPTION:Please join owner Alan Gahagan in celebrating his 12 year anniversary of Downtown Deli on Wednesday\, September 25th at 2:00pm – Located at 330 North Main Street Davenport\, IA 52801.  http://mapq.st/3-NTTGQ5OA.  Downtown Deli is home of the deli pretzel sandwiches.  They also offer services including catering\, box lunches\, dine-in\, and take out.
X-ALT-DESC;FMTTYPE=text/html:<DIV style="FONT-FAMILY: Arial"><P style="MARGIN: 0in 0in 0pt" class=MsoNormal><FONT face=Calibri>Please join owner Alan Gahagan in celebrating his 12 year anniversary of Downtown Deli on Wednesday\, September 25<SUP>th</SUP> at 2:00pm – Located at 330 North Main Street Davenport\, IA 52801.<SPAN style="mso-spacerun: yes">&nbsp\; </SPAN></FONT><A href="http://mapq.st/3-NTTGQ5OA"><FONT face="Times New Roman">http://mapq.st/3-NTTGQ5OA</FONT></A><FONT face=Calibri>. <?xml:namespace prefix = o ns = "urn:schemas-microsoft-com:office:office" /><o:p></o:p></FONT></P><P style="MARGIN: 0in 0in 0pt" class=MsoNormal><o:p><FONT face=Calibri>&nbsp\;</FONT></o:p></P><P style="MARGIN: 0in 0in 0pt" class=MsoNormal><FONT face=Calibri>Downtown Deli is home of the deli pretzel sandwiches.<SPAN style="mso-spacerun: yes">&nbsp\; </SPAN>They also offer services including catering\, box lunches\, dine-in\, and take out.<SPAN style="mso-spacerun: yes">&nbsp\; </SPAN></FONT><o:p></o:p></P></DIV>
LOCATION:Downtown Deli330 N. Main St. Davenport\, IA 52801
UID:e.2843.697
SEQUENCE:3
DTSTAMP:20260421T183730Z
URL:https://member.quadcitieschamber.com/events/details/downtown-deli-ribbon-cutting-09-25-2013-697
END:VEVENT

END:VCALENDAR
