BEGIN:VCALENDAR
VERSION:2.0
PRODID:-//ChamberMaster//Event Calendar 2.0//EN
METHOD:PUBLISH
X-PUBLISHED-TTL:P3D
REFRESH-INTERVAL:P3D
CALSCALE:GREGORIAN
BEGIN:VEVENT
DTSTART:20111220T060000Z
DTEND:20120220T060000Z
X-MICROSOFT-CDO-ALLDAYEVENT:FALSE
SUMMARY:Downtown Partnership: Beautification Program - Streetscape 2012
DESCRIPTION:Downtown Partnership: Beautification Program - Streetscape 2012
X-ALT-DESC;FMTTYPE=text/html:Downtown Partnership: Beautification Program - Streetscape 2012
LOCATION:Downtown Davenport
UID:e.2843.4420
SEQUENCE:3
DTSTAMP:20260422T075815Z
URL:https://member.quadcitieschamber.com/events/details/downtown-partnership-beautification-program-streetscape-2012-12-20-2011-4420
END:VEVENT

END:VCALENDAR
