BEGIN:VCALENDAR
VERSION:2.0
PRODID:-//ChamberMaster//Event Calendar 2.0//EN
METHOD:PUBLISH
X-PUBLISHED-TTL:P3D
REFRESH-INTERVAL:P3D
CALSCALE:GREGORIAN
BEGIN:VEVENT
DTSTART:20111128T060000Z
DTEND:20121128T060000Z
X-MICROSOFT-CDO-ALLDAYEVENT:FALSE
SUMMARY:Downtown Partnership: Downtown Events E-News
DESCRIPTION:Downtown Partnership: Downtown Events E-News
X-ALT-DESC;FMTTYPE=text/html:Downtown Partnership: Downtown Events E-News
LOCATION:
UID:e.2843.4490
SEQUENCE:3
DTSTAMP:20260421T153240Z
URL:https://member.quadcitieschamber.com/events/details/downtown-partnership-downtown-events-e-news-11-28-2011-4490
END:VEVENT

END:VCALENDAR
