BEGIN:VCALENDAR
VERSION:2.0
PRODID:-//ChamberMaster//Event Calendar 2.0//EN
METHOD:PUBLISH
X-PUBLISHED-TTL:P3D
REFRESH-INTERVAL:P3D
CALSCALE:GREGORIAN
BEGIN:VEVENT
DTSTART:20111001T050000Z
DTEND:20121201T060000Z
X-MICROSOFT-CDO-ALLDAYEVENT:FALSE
SUMMARY:Downtown Partnership: Weekly Downtown Events Calendar Email & Facebook Post
DESCRIPTION:Downtown Partnership: Weekly Downtown Events Calendar Email & Facebook Post
X-ALT-DESC;FMTTYPE=text/html:Downtown Partnership: Weekly Downtown Events Calendar Email & Facebook Post
LOCATION:
UID:e.2843.4416
SEQUENCE:3
DTSTAMP:20260421T134830Z
URL:https://member.quadcitieschamber.com/events/details/downtown-partnership-weekly-downtown-events-calendar-email-facebook-post-10-01-2011-4416
END:VEVENT

END:VCALENDAR
