BEGIN:VCALENDAR
VERSION:2.0
PRODID:-//ChamberMaster//Event Calendar 2.0//EN
METHOD:PUBLISH
X-PUBLISHED-TTL:P3D
REFRESH-INTERVAL:P3D
CALSCALE:GREGORIAN
BEGIN:VEVENT
DTSTART:20131206T220000Z
DTEND:20131206T223000Z
X-MICROSOFT-CDO-ALLDAYEVENT:FALSE
SUMMARY:dphilms 10 Year Anniversary Ribbon Cutting
DESCRIPTION:Please join dphilms\, located at 2227 3rd. Ave. Rock Island\, IL 61201\, to celebrate their 10 year anniversary with a ribbon cutting on Friday\, December 6th at 4:00pm.  http://mapq.st/1dOpeXV.   In 2003\, Phil and Shelly Dingeldein had a vision to revitalize a vacant building in downtown Rock Island.  With determination and a lot of elbow grease\, what was once Spector Liquors- a 1950’s bowling alley\, bar\, liquor store and warehouse was transformed into dphilms – a hip\, retro studio in the District of Rock Island home for the past 10 years.  No matter what the project\, they deliver powerful and impactful production services for local\, national and international clients.   In this fast-paced broadcast\, social media and online world\, dphilms offers a wide range of media production services including concept development\, script writing\, location scouting\, talent\, voice over\, crewing\, media buying and more.  They were the first in the Quad Cities to offer state-of-the-art HD video marketing and television production that can be seen around the globe. dphilms’ portfolio is extensive including filing segments for the History Channel’s hit show\, American Pickers\, since its premiere 4 years ago. To celebrate their 10 year anniversary in the District of Rock Island\, dphilms has also rolled out a new look with a newly designed website and logo.  Shelly Dingeldein\, President of dphilms\, said “We are excited about our new brand and we will continue with our tradition of providing superior media solutions for our clients’ ever changing needs.” For more information\, please visit www.dphilms.com. Kristin Glass\, Vice President of Member Investor Relations\, will be speaking on behalf of the Quad Cities Chamber of Commerce.
X-ALT-DESC;FMTTYPE=text/html:<P style="MARGIN: 0in 0in 0pt" class=MsoNormal><P style="MARGIN: 0in 0in 0pt" class=MsoNormal><FONT face=Calibri>Please join dphilms\, <B style="mso-bidi-font-weight: normal">located at 2227 3<SUP>rd</SUP>. Ave. Rock Island\, IL 61201</B>\, to celebrate their 10 year anniversary with a ribbon cutting on <B style="mso-bidi-font-weight: normal">Friday\, December 6<SUP>th</SUP> at 4:00pm</B>.<SPAN style="mso-spacerun: yes">&nbsp\; </SPAN></FONT><A href="http://mapq.st/1dOpeXV">http://mapq.st/1dOpeXV</A><FONT face=Calibri>.<SPAN style="mso-spacerun: yes">&nbsp\; </SPAN><?xml:namespace prefix = o ns = "urn:schemas-microsoft-com:office:office" /><o:p></o:p></FONT></P><P style="MARGIN: 0in 0in 0pt" class=MsoNormal><o:p><FONT face=Calibri>&nbsp\;</FONT></o:p></P><P style="MARGIN: 0in 0in 0pt" class=MsoNormal><FONT face=Calibri>In 2003\, Phil and Shelly Dingeldein had a vision to revitalize a vacant building in downtown Rock Island.<SPAN style="mso-spacerun: yes">&nbsp\; </SPAN>With determination and a lot of elbow grease\, what was once Spector Liquors- a 1950’s bowling alley\, bar\, liquor store and warehouse was transformed into dphilms – a hip\, retro studio in the District of Rock Island home for the past 10 years.<SPAN style="mso-spacerun: yes">&nbsp\; </SPAN>No matter what the project\, they deliver powerful and impactful production services for local\, national and international clients.<SPAN style="mso-spacerun: yes">&nbsp\; </SPAN><o:p></o:p></FONT></P><P style="MARGIN: 0in 0in 0pt" class=MsoNormal><o:p><FONT face=Calibri>&nbsp\;</FONT></o:p></P><P style="MARGIN: 0in 0in 0pt" class=MsoNormal><FONT face=Calibri>In this fast-paced broadcast\, social media and online world\, dphilms offers a wide range of media production services including concept development\, script writing\, location scouting\, talent\, voice over\, crewing\, media buying and more.<SPAN style="mso-spacerun: yes">&nbsp\; </SPAN>They were the first in the Quad Cities to offer state-of-the-art HD video marketing and television production that can be seen around the globe. dphilms’ portfolio is extensive including filing segments for the History Channel’s hit show\, American Pickers\, since its premiere 4 years ago.<o:p></o:p></FONT></P><P style="MARGIN: 0in 0in 0pt" class=MsoNormal><o:p><FONT face=Calibri>&nbsp\;</FONT></o:p></P><P style="MARGIN: 0in 0in 0pt" class=MsoNormal><FONT face=Calibri>To celebrate their 10 year anniversary in the District of Rock Island\, dphilms has also rolled out a new look with a newly designed website and logo.<SPAN style="mso-spacerun: yes">&nbsp\; </SPAN>Shelly Dingeldein\, President of dphilms\, said “We are excited about our new brand and we will continue with our tradition of providing superior media solutions for our clients’ ever changing needs.”<o:p></o:p></FONT></P><P style="MARGIN: 0in 0in 0pt" class=MsoNormal><o:p><FONT face=Calibri>&nbsp\;</FONT></o:p></P><P style="MARGIN: 0in 0in 0pt" class=MsoNormal><FONT face=Calibri>For more information\, please visit </FONT><A href="http://www.dphilms.com">www.dphilms.com</A><FONT face=Calibri>.</FONT></P><P style="MARGIN: 0in 0in 0pt" class=MsoNormal><FONT face=Calibri></FONT>&nbsp\;</P><P style="MARGIN: 0in 0in 0pt" class=MsoNormal><FONT face=Calibri>Kristin Glass\, Vice President of Member Investor Relations\, will be speaking on behalf of the Quad Cities Chamber of Commerce.&nbsp\; </FONT></P><P>&nbsp\;</P>
LOCATION:dphilms Imaging Services2227 Third Avenue Rock Island\, IL 61201
UID:e.2843.753
SEQUENCE:3
DTSTAMP:20260421T235151Z
URL:https://member.quadcitieschamber.com/events/details/dphilms-10-year-anniversary-ribbon-cutting-12-06-2013-753
END:VEVENT

END:VCALENDAR
