BEGIN:VCALENDAR
VERSION:2.0
PRODID:-//ChamberMaster//Event Calendar 2.0//EN
METHOD:PUBLISH
X-PUBLISHED-TTL:P3D
REFRESH-INTERVAL:P3D
CALSCALE:GREGORIAN
BEGIN:VEVENT
DTSTART:20120123T180000Z
DTEND:20120123T183000Z
X-MICROSOFT-CDO-ALLDAYEVENT:FALSE
SUMMARY:Dr. Darryl C. Johnson Ribbon Cutting
DESCRIPTION:Please help us celebrate new member\, Dr. Darryl C Johnson\, by attending a ribbon cutting on Monday\, January 23rd at noon. The office is located at 1912 Middle Road in Bettendorf – the corner of Middle Road and 18th in Spruce Center.  Dr. Johnson specializes in obstetrics\, gynecology and pelvic surgery.
X-ALT-DESC;FMTTYPE=text/html:<DIV><FONT face=Calibri><P style="MARGIN: 0in 0in 0pt" class=MsoNormal>Please help us celebrate new member\, Dr. Darryl C Johnson\, by attending a ribbon cutting on Monday\, January&nbsp\;23rd at noon.</P><P style="MARGIN: 0in 0in 0pt" class=MsoNormal><?xml:namespace prefix = o ns = "urn:schemas-microsoft-com:office:office" /><o:p>&nbsp\;</o:p></P><P style="MARGIN: 0in 0in 0pt" class=MsoNormal>The office is located at 1912 Middle Road in Bettendorf – the corner of Middle Road and 18<SUP>th</SUP> in Spruce Center.<SPAN style="mso-spacerun: yes">&nbsp\; </SPAN>Dr. Johnson specializes in obstetrics\, gynecology and pelvic surgery.</P><P style="MARGIN: 0in 0in 0pt" class=MsoNormal>&nbsp\;</P></FONT></DIV>
LOCATION:Darryl C. Johnson\, DO\, PC1912 Middle Rd. Bettendorf\, IA 52722
UID:e.2843.325
SEQUENCE:3
DTSTAMP:20260422T093158Z
URL:https://member.quadcitieschamber.com/events/details/dr-darryl-c-johnson-ribbon-cutting-01-23-2012-325
END:VEVENT

END:VCALENDAR
