BEGIN:VCALENDAR
VERSION:2.0
PRODID:-//ChamberMaster//Event Calendar 2.0//EN
METHOD:PUBLISH
X-PUBLISHED-TTL:P3D
REFRESH-INTERVAL:P3D
CALSCALE:GREGORIAN
BEGIN:VEVENT
DTSTART:20210118T163000Z
DTEND:20210118T173000Z
X-MICROSOFT-CDO-ALLDAYEVENT:FALSE
SUMMARY:Dr. Martin Luther King Jr. Memorial Service & Awards
DESCRIPTION:Join us ONLINE for the 38th Annual Dr. Martin Luther King Jr. Memorial Service & Awards. The event will be live-streamed on YouTube at rtmp://a.rtmp.youtube.com/live2 After the event\, the recording will be posted on YouTube and Facebook. This year's theme is\, "Nothing in all the world is more dangerous than sincere ignorance and conscientious stupidity." This event will feature keynote speaker Rev Earlye Julien from Living Water Christian Center\, Moline\, plus a variety of performances and presentations in honor of Dr. King. Two scholarships will be awarded\, and the "I Have A Dream" Award will be presented to a Rock Island citizen for exemplary community service and enormous contributions made to the community. For more information\, please call 309 732 2999 or email mlkmail@rigov.org
X-ALT-DESC;FMTTYPE=text/html:Join us ONLINE for the 38th Annual Dr. Martin Luther King Jr. Memorial Service &amp\; Awards. The event will be live-streamed on YouTube at rtmp://a.rtmp.youtube.com/live2 After the event\, the recording will be posted on YouTube and Facebook. This year&#39\;s theme is\, &quot\;Nothing in all the world is more dangerous than sincere ignorance and conscientious stupidity.&quot\; This event will feature keynote speaker Rev Earlye Julien from Living Water Christian Center\, Moline\, plus a variety of performances and presentations in honor of Dr. King. Two scholarships will be awarded\, and the &ldquo\;I Have A Dream&rdquo\; Award will be presented to a Rock Island citizen for exemplary community service and enormous contributions made to the community. For more information\, please call 309 732 2999 or email mlkmail@rigov.org
LOCATION:YouTube live stream: rtmp://a.rtmp.youtube.com/live2
UID:e.2843.18737
SEQUENCE:3
DTSTAMP:20260421T062813Z
URL:https://member.quadcitieschamber.com/events/details/dr-martin-luther-king-jr-memorial-service-awards-18737
END:VEVENT

END:VCALENDAR
