BEGIN:VCALENDAR
VERSION:2.0
PRODID:-//ChamberMaster//Event Calendar 2.0//EN
METHOD:PUBLISH
X-PUBLISHED-TTL:P3D
REFRESH-INTERVAL:P3D
CALSCALE:GREGORIAN
BEGIN:VEVENT
DTSTART:20131210T233000Z
DTEND:20131211T020000Z
X-MICROSOFT-CDO-ALLDAYEVENT:FALSE
SUMMARY:Dream Big Grow Here Quad Cities Pitch Off
DESCRIPTION:Do you love the ABC show Shark Tank? The Dream Big Grow Here Quad Cities Pitch Off is your chance to see area entrepreneurs pitch their dream to a panel of local business leaders in competition for a $5\,000 prize. Attend to network\, learn more about the plans these exciting companies have for the future and show support for local entrepreneurs.This event is hosted by Ignite Quad Cities\, a community of entrepreneurs and business leaders with a vision to grow companies\, jobs and profits in the Quad Cities region.
X-ALT-DESC;FMTTYPE=text/html:<P style="MARGIN: 0in 0in 10pt" class=MsoNormal><FONT face=Calibri>Do you love the ABC show Shark Tank? The Dream Big Grow Here Quad Cities Pitch Off is your chance to see area entrepreneurs pitch their dream to a panel of local business leaders in competition for a $5\,000 prize. Attend to network\, learn more about the plans these exciting companies have for the future and show support for local entrepreneurs.</FONT></P><P style="MARGIN: 0in 0in 10pt" class=MsoNormal><FONT face=Calibri>This event is hosted by Ignite Quad Cities\, a community of entrepreneurs and business leaders with a vision to grow companies\, jobs and profits in the Quad Cities region. </FONT></P><DIV>&nbsp\;</DIV>
LOCATION:Quad Cities River Bandits209 S. Gaines Davenport\, IA 52802
UID:e.2843.754
SEQUENCE:3
DTSTAMP:20260422T013327Z
URL:https://member.quadcitieschamber.com/events/details/dream-big-grow-here-quad-cities-pitch-off-12-10-2013-754
END:VEVENT

END:VCALENDAR
