BEGIN:VCALENDAR
VERSION:2.0
PRODID:-//ChamberMaster//Event Calendar 2.0//EN
METHOD:PUBLISH
X-PUBLISHED-TTL:P3D
REFRESH-INTERVAL:P3D
CALSCALE:GREGORIAN
BEGIN:VEVENT
DTSTART:20140203T220000Z
DTEND:20140203T223000Z
X-MICROSOFT-CDO-ALLDAYEVENT:FALSE
SUMMARY:Dress for Success Quad Cities Grand Opening Ribbon Cutting
DESCRIPTION:Dress for Success Quad Cities\, located at 311 E. 2nd St. Davenport\, IA 52801\, will celebrate the opening of their new location with a ribbon cutting on Monday\, February 3rd at 4:30pm.  http://mapq.st/1baQlbS.   Dress for Success Quad Cities is known for giving free suits to job-seeking or newly-employed women.  They also provide job-retention training each month to employed women through their Professional Women’s Group and job search assistance to low resource women through their Growing Places Network program.   Julie Forsythe\, Project Manager\, Innovation\, will be speaking on behalf of the Quad Cities Chamber of Commerce.  For more information\, please visit www.dressforsuccess.org/quadcities.
X-ALT-DESC;FMTTYPE=text/html:<P style="MARGIN: 0in 0in 0pt" class=MsoNormal></P><FONT face=Calibri><SPAN style="mso-spacerun: yes"></SPAN></FONT><?xml:namespace prefix = o ns = "urn:schemas-microsoft-com:office:office" /><o:p><P style="MARGIN: 0in 0in 0pt" class=MsoNormal><FONT face=Calibri>Dress for Success Quad Cities\, located at <B style="mso-bidi-font-weight: normal">311 E. 2<SUP>nd</SUP> St. Davenport\, IA 52801</B>\, will celebrate the opening of their new location with a ribbon cutting on <B style="mso-bidi-font-weight: normal">Monday\, February 3<SUP>rd</SUP> at 4:30pm</B>.<SPAN style="mso-spacerun: yes">&nbsp\; </SPAN></FONT><A href="http://mapq.st/1baQlbS"><FONT color=#0000ff>http://mapq.st/1baQlbS</FONT></A><FONT face=Calibri>.<SPAN style="mso-spacerun: yes">&nbsp\; </SPAN><o:p></o:p></FONT></P><P style="MARGIN: 0in 0in 0pt" class=MsoNormal><o:p><FONT face=Calibri>&nbsp\;</FONT></o:p></P><P style="MARGIN: 0in 0in 0pt" class=MsoNormal><FONT face=Calibri>Dress for Success Quad Cities is known for giving free suits to job-seeking or newly-employed women.<SPAN style="mso-spacerun: yes">&nbsp\; </SPAN>They also provide job-retention training each month to employed women through their Professional Women’s Group and job search assistance to low resource women through their Growing Places Network program.<SPAN style="mso-spacerun: yes">&nbsp\; </SPAN><o:p></o:p></FONT></P><P style="MARGIN: 0in 0in 0pt" class=MsoNormal><o:p><FONT face=Calibri>&nbsp\;</FONT></o:p></P><P style="MARGIN: 0in 0in 0pt" class=MsoNormal><FONT face=Calibri>Julie Forsythe\, Project Manager\, Innovation\, will be speaking on behalf of the Quad Cities Chamber of Commerce. <o:p></o:p></FONT></P><P style="MARGIN: 0in 0in 0pt" class=MsoNormal><o:p><FONT face=Calibri>&nbsp\;</FONT></o:p></P><P style="MARGIN: 0in 0in 0pt" class=MsoNormal><FONT face=Calibri>For more information\, please visit </FONT><A href="http://www.dressforsuccess.org/quadcities"><FONT color=#0000ff>www.dressforsuccess.org/quadcities</FONT></A><FONT face=Calibri>.<SPAN style="mso-spacerun: yes">&nbsp\; </SPAN></FONT><o:p></o:p></P><P style="MARGIN: 0in 0in 0pt" class=MsoNormal></o:p></P>
LOCATION:Dress for Success Quad Cities311 E. 2nd St. Davenport\, IA 52801
UID:e.2843.762
SEQUENCE:3
DTSTAMP:20260422T031917Z
URL:https://member.quadcitieschamber.com/events/details/dress-for-success-quad-cities-grand-opening-ribbon-cutting-02-03-2014-762
END:VEVENT

END:VCALENDAR
