BEGIN:VCALENDAR
VERSION:2.0
PRODID:-//ChamberMaster//Event Calendar 2.0//EN
METHOD:PUBLISH
X-PUBLISHED-TTL:P3D
REFRESH-INTERVAL:P3D
CALSCALE:GREGORIAN
BEGIN:VEVENT
DTSTART:20120202T110000Z
DTEND:20120202T233000Z
X-MICROSOFT-CDO-ALLDAYEVENT:FALSE
SUMMARY:Dress For Success Ribbon Cutting
DESCRIPTION:Dress for Success Quad Cities will celebrate its Grand Opening with a ribbon cutting on Thursday\, February 2nd at 5pm.  They are located at 111 E. Third Street\, Suite 710 – in the Union Arcade building in downtown Davenport.  The Grand Opening will take place from 4pm to 6pm\, with the ribbon cutting occurring at 5pm. Dress for Success Quad Cities  is a new local affiliate of the international not-for-profit organization.  Since suiting the first client in 1997\, Dress for Success has served more than 600\,000 women internationally by providing them with business-appropriate clothing\, mentoring and professional development programs.  This brand-new affiliate joins more than 110 others around the globe. For more information\, visit www.dressforsuccess.org/quadcities
X-ALT-DESC;FMTTYPE=text/html:<DIV><FONT face=Calibri><P style="MARGIN: 0in 0in 0pt" class=MsoNormal>Dress for Success Quad Cities will celebrate its Grand Opening with a ribbon cutting on Thursday\, February 2<SUP>nd</SUP> at 5pm.<SPAN style="mso-spacerun: yes">&nbsp\; </SPAN>They are located at 111 E. Third Street\, Suite 710 – in the Union Arcade building in downtown Davenport.<SPAN style="mso-spacerun: yes">&nbsp\; </SPAN>The Grand Opening will take place from 4pm to 6pm\, with the ribbon cutting occurring at 5pm.</P><P style="MARGIN: 0in 0in 0pt" class=MsoNormal><?xml:namespace prefix = o ns = "urn:schemas-microsoft-com:office:office" /><o:p>&nbsp\;</o:p></P><P style="MARGIN: 0in 0in 0pt" class=MsoNormal>Dress for Success Quad Cities<SPAN style="mso-spacerun: yes">&nbsp\; </SPAN>is a new local affiliate of the international not-for-profit organization.<SPAN style="mso-spacerun: yes">&nbsp\; </SPAN>Since suiting the first client in 1997\, Dress for Success has served more than 600\,000 women internationally by providing them with business-appropriate clothing\, mentoring and professional development programs.<SPAN style="mso-spacerun: yes">&nbsp\; </SPAN>This brand-new affiliate joins more than 110 others around the globe.</P><P style="MARGIN: 0in 0in 0pt" class=MsoNormal><o:p>&nbsp\;</o:p></P><P style="MARGIN: 0in 0in 0pt" class=MsoNormal>For more information\, visit <A href="http://www.dressforsuccess.org/quadcities"><FONT face="Times New Roman">www.dressforsuccess.org/quadcities</FONT></A></P><P style="MARGIN: 0in 0in 0pt" class=MsoNormal>&nbsp\;</P></FONT></DIV>
LOCATION:Dress For Success - Quad Cities (Union Arcade Bldg)111 E. Third Street\, Suite 710 Davenport\, IA 52801
UID:e.2843.340
SEQUENCE:3
DTSTAMP:20260422T080710Z
URL:https://member.quadcitieschamber.com/events/details/dress-for-success-ribbon-cutting-02-02-2012-340
END:VEVENT

END:VCALENDAR
