BEGIN:VCALENDAR
VERSION:2.0
PRODID:-//ChamberMaster//Event Calendar 2.0//EN
METHOD:PUBLISH
X-PUBLISHED-TTL:P3D
REFRESH-INTERVAL:P3D
CALSCALE:GREGORIAN
BEGIN:VEVENT
DTSTART:20180525T130000Z
DTEND:20180608T210000Z
X-MICROSOFT-CDO-ALLDAYEVENT:FALSE
SUMMARY:Dress for Success Suit Drive
DESCRIPTION:Galaxy 1 is hosting a Dress for Success QC apparel drive. The clothes collected will be donated to Dress for Success\, an international not-for-profit organization that promotes the economic independence of disadvantaged women by providing a network of support\, professional attire\, and the career development tools to help women thrive in work and in life. Nearly new women's professional clothing and accessories [include applicable items such as suits\, blouses\, closed-toe shoes and handbags] will be accepted. If it is appropriate to wear to work and you would be comfortable wearing your donation to an interview yourself - we will take it! Donations should be cleaned and ready-to-wear. Dress for Success Quad Cities also accepts monetary donations. Checks can be made payable to: Dress for Success Quad Cities Re: Galaxy 1 Suit Drive. All donations are tax-deductible. You can bring your clothing and monetary donation to 4038 Utica Ridge Rd.\, Bettendorf.
X-ALT-DESC;FMTTYPE=text/html:<span style="font-size:16px\;"><span style="font-family:arial\;">Galaxy 1 is hosting a Dress for Success QC apparel drive. The clothes collected will be donated to Dress for Success\, an international not-for-profit organization that promotes the economic independence of disadvantaged women by providing a network of support\, professional attire\, and the career development tools to help women thrive in work and in life. Nearly new women&#39\;s professional clothing and accessories [include applicable items such as suits\, blouses\, closed-toe shoes and handbags] will be accepted. If it is appropriate to wear to work and you would be comfortable wearing your donation to an interview yourself - we will take it! Donations should be cleaned and ready-to-wear. Dress for Success Quad Cities also accepts monetary donations. Checks can be made payable to: Dress for Success Quad Cities Re: Galaxy 1 Suit Drive. All donations are tax-deductible. You can bring your clothing and monetary donation to 4038 Utica Ridge Rd.\, Bettendorf.</span></span>
LOCATION:Galaxy 1 - 4038 Utica Ridge Rd.\, Bettendorf\, IA 52722
UID:e.2843.13278
SEQUENCE:3
DTSTAMP:20260423T105038Z
URL:https://member.quadcitieschamber.com/events/details/dress-for-success-suit-drive-13278
END:VEVENT

END:VCALENDAR
