BEGIN:VCALENDAR
VERSION:2.0
PRODID:-//ChamberMaster//Event Calendar 2.0//EN
METHOD:PUBLISH
X-PUBLISHED-TTL:P3D
REFRESH-INTERVAL:P3D
CALSCALE:GREGORIAN
BEGIN:VEVENT
DTSTART:20180503T200000Z
DTEND:20180503T210000Z
X-MICROSOFT-CDO-ALLDAYEVENT:FALSE
SUMMARY:Drug & Alcohol Awareness Refresher
DESCRIPTION:The purpose of Iowa's drug testing law (Iowa Code Section 730.5\, paragraph 9.h. and Administrative Code Section 640) is to enhance worker safety by creating workplaces that are free of drugs and substance abuse. One tool available to private sector employers is drug testing (inclusive of alcohol testing). A private sector employer who chooses to use this tool must attend a minimum of two hours of initial training to begin\, and a minimum of one hour annual update training. This training meets the one-hour annual refresher training requirement and includes information concerning the recognition of evidence of employee alcohol and other drug abuse\, the documentation and corroboration of alcohol and drug abuse\, and the referral of employees who abuse alcohol or other drugs to the employee assistance program. Section #186224. To register\, call 563.441.4100.
X-ALT-DESC;FMTTYPE=text/html:The purpose of Iowa&#39\;s drug testing law (Iowa Code Section 730.5\, paragraph 9.h. and Administrative Code Section 640) is to enhance worker safety by creating workplaces that are free of drugs and substance abuse. One tool available to private sector employers is drug testing (inclusive of alcohol testing). A private sector employer who chooses to use this tool must attend a minimum of two hours of initial training to begin\, and a minimum of one hour annual update training. This training meets the one-hour annual refresher training requirement and includes information concerning the recognition of evidence of employee alcohol and other drug abuse\, the documentation and corroboration of alcohol and drug abuse\, and the referral of employees who abuse alcohol or other drugs to the employee assistance program. Section #186224. To register\, call 563.441.4100.
LOCATION:EICC Midwest Center for Public Safety Training\, 8200 N. Fairmount\, Davenport\, IA 52806
UID:e.2843.13167
SEQUENCE:3
DTSTAMP:20260423T104930Z
URL:https://member.quadcitieschamber.com/events/details/drug-alcohol-awareness-refresher-04-18-2018-13167
END:VEVENT

END:VCALENDAR
