BEGIN:VCALENDAR
VERSION:2.0
PRODID:-//ChamberMaster//Event Calendar 2.0//EN
METHOD:PUBLISH
X-PUBLISHED-TTL:P3D
REFRESH-INTERVAL:P3D
CALSCALE:GREGORIAN
BEGIN:VEVENT
DTSTART:20140320T143000Z
DTEND:20140320T150000Z
X-MICROSOFT-CDO-ALLDAYEVENT:FALSE
SUMMARY:DSW Shoe Warehouse Grand Opening Ribbon Cutting
DESCRIPTION:Please join DSW Shoe Warehouse\, located at 4241 Elmore Ave. Davenport\, IA 52807\, to celebrate the grand opening of their new store on Thursday\, March 20th at 9:30am.   http://mapq.st/1c7g5en.   DSW Inc. is a leading branded footwear and accessories retailer that offers a wide selection of brand name and designer shoes and accessories for women\, men and kids.  Customers will be welcome into the new 18\,000 square foot store with a plethora of spring accessories\, handbags\, and more than 23\,000 pairs of shoes.  DSW will be the first store in the Quad Cities and will employ 25-40 full-time and part-time associates.   For more information\, please visit www.dsw.com.   Anne Spoden\, Innovation and Talent Coordinator\, will be speaking on behalf of the Quad Cities Chamber of Commerce.
X-ALT-DESC;FMTTYPE=text/html:<FONT face=Calibri><SPAN style="FONT-FAMILY: 'Calibri'\,'sans-serif'\; FONT-SIZE: 11pt\; mso-fareast-font-family: 'Times New Roman'\; mso-bidi-font-family: 'Times New Roman'\; mso-ansi-language: EN-US\; mso-fareast-language: EN-US\; mso-bidi-language: AR-SA"><P style="MARGIN: 0in 0in 0pt" class=MsoNormal><P style="MARGIN: 0in 0in 0pt" class=MsoNormal>Please join DSW Shoe Warehouse\, located at 4241 Elmore Ave. Davenport\, IA 52807\, to celebrate the grand opening of their new store on Thursday\, March 20<SUP>th</SUP> at 9:30am.<SPAN style="mso-spacerun: yes">&nbsp\;&nbsp\; </SPAN><A href="http://mapq.st/1c7g5en"><FONT color=#0000ff face="Times New Roman">http://mapq.st/1c7g5en</FONT></A>.<SPAN style="mso-spacerun: yes">&nbsp\; </SPAN><?xml:namespace prefix = o ns = "urn:schemas-microsoft-com:office:office" /><o:p></o:p></P></P><P style="MARGIN: 0in 0in 0pt" class=MsoNormal><o:p>&nbsp\;</o:p></P><P style="MARGIN: 0in 0in 0pt" class=MsoNormal>DSW Inc. is a leading branded footwear and accessories retailer that offers a wide selection of brand name and designer shoes and accessories for women\, men and kids.<SPAN style="mso-spacerun: yes">&nbsp\; </SPAN>Customers will be welcome into the new 18\,000 square foot store with a plethora of spring accessories\, handbags\, and more than 23\,000 pairs of shoes.<SPAN style="mso-spacerun: yes">&nbsp\; </SPAN>DSW will be the first store in the Quad Cities and will employ 25-40 full-time and part-time associates.<SPAN style="mso-spacerun: yes">&nbsp\; </SPAN><o:p></o:p></P><P style="MARGIN: 0in 0in 0pt" class=MsoNormal><o:p>&nbsp\;</o:p></P><P style="MARGIN: 0in 0in 0pt" class=MsoNormal>For more information\, please visit <A href="http://www.dsw.com"><FONT color=#0000ff face="Times New Roman">www.dsw.com</FONT></A>.<SPAN style="mso-spacerun: yes">&nbsp\; </SPAN><o:p></o:p></P><P style="MARGIN: 0in 0in 0pt" class=MsoNormal><o:p>&nbsp\;</o:p></P><P style="MARGIN: 0in 0in 0pt" class=MsoNormal>Anne Spoden\, Innovation and Talent Coordinator\, will be speaking on behalf of the Quad Cities Chamber of Commerce. <o:p></o:p></P><P style="MARGIN: 0in 0in 0pt" class=MsoNormal></P></SPAN></FONT><P></P>
LOCATION:DSW Designer Shoe Warehouse4241 Elmore Ave. Davenport\, IA 52807
UID:e.2843.782
SEQUENCE:3
DTSTAMP:20260422T080924Z
URL:https://member.quadcitieschamber.com/events/details/dsw-shoe-warehouse-grand-opening-ribbon-cutting-03-20-2014-782
END:VEVENT

END:VCALENDAR
