BEGIN:VCALENDAR
VERSION:2.0
PRODID:-//ChamberMaster//Event Calendar 2.0//EN
METHOD:PUBLISH
X-PUBLISHED-TTL:P3D
REFRESH-INTERVAL:P3D
CALSCALE:GREGORIAN
BEGIN:VEVENT
DTSTART:20140507T210000Z
DTEND:20140507T220000Z
X-MICROSOFT-CDO-ALLDAYEVENT:FALSE
SUMMARY:Dubai Trip: Final Meeting
DESCRIPTION:Sam's Club\, 4300 16th St. Moline (inside SouthPark Mall\, next to Dillard's)\, will celebrate the grand opening of their new storefront with a ribbon cutting on Thursday\, April 24th at 1:00pm.   Sam's Club is always focused on their members and providing them with the best value at all times.  Their new storefront/membership location is where they will be conducting all of their hiring and processing memberships.   For more information\, please visit www.samsclub.com.   Thank you\,
X-ALT-DESC;FMTTYPE=text/html:<P style="MARGIN: 0in 0in 0pt" class=MsoNormal><FONT face=Calibri>Sam's Club\, 4300 16<SUP>th</SUP> St. Moline (inside SouthPark Mall\, next to Dillard's)\, will celebrate the grand opening of their new storefront with a ribbon cutting on Thursday\, April 24<SUP>th</SUP> at 1:00pm.<SPAN style="mso-spacerun: yes">&nbsp\; </SPAN><?xml:namespace prefix = o ns = "urn:schemas-microsoft-com:office:office" /><o:p></o:p></FONT></P><P style="MARGIN: 0in 0in 0pt" class=MsoNormal><o:p><FONT face=Calibri>&nbsp\;</FONT></o:p></P><P style="MARGIN: 0in 0in 0pt" class=MsoNormal><FONT face=Calibri>Sam's Club is always focused on their members and providing them with the best value at all times.<SPAN style="mso-spacerun: yes">&nbsp\; </SPAN>Their new storefront/membership location is where they will be conducting all of their hiring and processing memberships.<SPAN style="mso-spacerun: yes">&nbsp\; </SPAN><o:p></o:p></FONT></P><P style="MARGIN: 0in 0in 0pt" class=MsoNormal><o:p><FONT face=Calibri>&nbsp\;</FONT></o:p></P><P style="MARGIN: 0in 0in 0pt" class=MsoNormal><FONT face=Calibri>For more information\, please visit </FONT><A href="http://www.samsclub.com"><FONT color=#0000ff>www.samsclub.com</FONT></A><FONT face=Calibri>.<SPAN style="mso-spacerun: yes">&nbsp\; </SPAN><o:p></o:p></FONT></P><P style="MARGIN: 0in 0in 0pt" class=MsoNormal><o:p><FONT face=Calibri>&nbsp\;</FONT></o:p></P><P style="MARGIN: 0in 0in 0pt" class=MsoNormal><FONT face=Calibri>Thank you\,<o:p></o:p></FONT></P><P style="MARGIN: 0in 0in 0pt" class=MsoNormal><P style="MARGIN: 0in 0in 0pt" class=MsoNormal><FONT face=Calibri><o:p></o:p></FONT>&nbsp\;</P><P></P></P>
LOCATION:Quad Cities Chamber of Commerce331 W. 3rd St. Suite 100 Davenport\, IA 52801
UID:e.2843.791
SEQUENCE:3
DTSTAMP:20260420T075724Z
URL:https://member.quadcitieschamber.com/events/details/dubai-trip-final-meeting-05-07-2014-791
END:VEVENT

END:VCALENDAR
