BEGIN:VCALENDAR
VERSION:2.0
PRODID:-//ChamberMaster//Event Calendar 2.0//EN
METHOD:PUBLISH
X-PUBLISHED-TTL:P3D
REFRESH-INTERVAL:P3D
CALSCALE:GREGORIAN
BEGIN:VEVENT
DTSTART:20130520T203000Z
DTEND:20130520T210000Z
X-MICROSOFT-CDO-ALLDAYEVENT:FALSE
SUMMARY:DuTrac Community Credit Union Ribbon Cutting
DESCRIPTION:Please help DuTrac Community Credit Union celebrate their new location on Monday\, May 20th at 3:30pm – Located at 3100 W. Kimberly Road\, Davenport (Across from Wal-Mart on Kimberly Road). DuTrac Community Credit Union provides Trust & Retirement services\; Online and Mobile Banking options\; mortgage and commercial loans\; and an online personal financial management tool. Please visit www.dutrac.org for more information.
X-ALT-DESC;FMTTYPE=text/html:<P style="MARGIN: 0in 0in 0pt" class=MsoNormal><FONT face=Calibri>Please help DuTrac Community Credit Union celebrate their new location on <B style="mso-bidi-font-weight: normal">Monday\, May 20<SUP>th</SUP> at 3:30pm</B> – Located at 3100 W. Kimberly Road\, Davenport (Across from Wal-Mart on Kimberly Road).<?xml:namespace prefix = o ns = "urn:schemas-microsoft-com:office:office" /><o:p></o:p></FONT></P><P style="MARGIN: 0in 0in 0pt" class=MsoNormal><o:p><FONT face=Calibri>&nbsp\;</FONT></o:p></P><P style="MARGIN: 0in 0in 0pt" class=MsoNormal><FONT face=Calibri>DuTrac Community Credit Union provides Trust &amp\; Retirement services\; Online and Mobile Banking options\; mortgage and commercial loans\; and an online personal financial management tool.<o:p></o:p></FONT></P><P style="MARGIN: 0in 0in 0pt" class=MsoNormal><o:p><FONT face=Calibri>&nbsp\;</FONT></o:p></P><P style="MARGIN: 0in 0in 0pt" class=MsoNormal><FONT face=Calibri>Please visit </FONT><A href="http://www.dutrac.org">www.dutrac.org</A><FONT face=Calibri> for more information.<o:p></o:p></FONT></P><DIV style="FONT-FAMILY: Arial">&nbsp\;</DIV>
LOCATION:DuTrac Community Credit Union3100 W. Kimberly Rd. Davenport\, IA 52806
UID:e.2843.586
SEQUENCE:3
DTSTAMP:20260421T135000Z
URL:https://member.quadcitieschamber.com/events/details/dutrac-community-credit-union-ribbon-cutting-05-20-2013-586
END:VEVENT

END:VCALENDAR
