BEGIN:VCALENDAR
VERSION:2.0
PRODID:-//ChamberMaster//Event Calendar 2.0//EN
METHOD:PUBLISH
X-PUBLISHED-TTL:P3D
REFRESH-INTERVAL:P3D
CALSCALE:GREGORIAN
BEGIN:VEVENT
DTSTART:20180525T230000Z
DTEND:20180526T020000Z
X-MICROSOFT-CDO-ALLDAYEVENT:FALSE
SUMMARY:EasMomentum
DESCRIPTION:Come meet with your fellow EasMo Quad Citizens and listen to various speakers who will tell us about all of the events and programs happening this summer in East Moline. Come and hear about new developments and businesses that are coming to East Moline. Confirmed speakers include Mayor Reggie Freeman\, Adam Guthrie\, Sean Moeller\, Chad Summers\, Midwest Ale Works\, Andrew Dasso\, and Cameo's.  Join us for a family friendly rally and enjoy some FREE food from Juniors Sports Bar and Grill.
X-ALT-DESC;FMTTYPE=text/html:<br />\n<span style="font-size:16px\;"><span style="font-family:arial\;"><span style="background:white\;">Come meet with your fellow EasMo Quad Citizens and listen to various speakers who will tell us about all of the events and programs happening this summer in East Moline. Come and hear about new developments and businesses that are coming to East Moline. Confirmed speakers include Mayor Reggie Freeman\, Adam Guthrie\, Sean Moeller\, Chad Summers\, Midwest Ale Works\, Andrew Dasso\, and Cameo&rsquo\;s. &nbsp\;Join us for a family friendly rally and enjoy some FREE food from Juniors Sports Bar and Grill.</span></span></span>
LOCATION:EasMoMentum Friday May 25th 9th Street Commons War Memorial Unveiling at 5:00pm EasMoMentum Rally at Runners park at 6:00pm Corner of 8th Street and 15th (Bring a lawn chair) Free pulled pork sandwiches from Junior's Sports Bar
UID:e.2843.13275
SEQUENCE:3
DTSTAMP:20260423T104621Z
URL:https://member.quadcitieschamber.com/events/details/easmomentum-13275
END:VEVENT

END:VCALENDAR
