BEGIN:VCALENDAR
VERSION:2.0
PRODID:-//ChamberMaster//Event Calendar 2.0//EN
METHOD:PUBLISH
X-PUBLISHED-TTL:P3D
REFRESH-INTERVAL:P3D
CALSCALE:GREGORIAN
BEGIN:VEVENT
DTSTART:20180703T230000Z
DTEND:20180704T030000Z
X-MICROSOFT-CDO-ALLDAYEVENT:FALSE
SUMMARY:East Moline Fireworks
DESCRIPTION:The City of East Moline\n\nJewel-Osco and McDonald's present\n\nA Spectacular Fireworks Celebration \n\n\n\nFireworks Begin at Dusk \n\nShuttle Service starts from JD Harvester at 6:30 PM\n\n***\n\nPresentation of Colors by R.I. Arsenal 6:45\n\nArmy Sustainment Command Soldiers\n\n***\n\nLive Music 7:00   9:00 PM\n\nPast Curfew   80's Tribute Band\n\n***\n\nChildren's Carnival - 25  tickets - \n\nPrizes for every game!\n\nMany Games * Face Painting * Balloon Artist\n\nFree Bounce House Obstacle Course\n\n***\n\nFood & Drink for Sale\n\n \n\n\n\nRain Date: July 5\, 2018\n\nBounce House Obstacle Course\n\n   \n\n\n\nShuttle Service starts from JD Harvester at 6:30 PM\n\nRain Date: July 5\, 2018
X-ALT-DESC;FMTTYPE=text/html:<div style="text-align:center"><span style="font-family:gill sans mt\,sans-serif"><span style="font-size:16.0pt"><strong><span style="font-size:24px">The City of East Moline</span><br />\n<span style="font-size:22px">Jewel-Osco and McDonald&#39\;s present</span></strong><br />\n<span style="color:#FFFFFF"><span style="font-size:28px"><span style="font-family:times\\ new\\ roman"><em><span style="background-color:rgb(255\, 0\, 0)">A Spectacular Fireworks Celebration </span></em></span></span></span><br />\n<br />\nFireworks Begin at Dusk </span></span><br />\n<span style="font-size:16px"><span style="color:rgb(0\, 32\, 96)"><span style="font-family:gill\\ sans\\ mt\,sans-serif">Shuttle Service starts from JD Harvester at 6:30 PM</span></span></span><br />\n<big><span style="font-size:22px">***</span></big><br />\n<span style="color:#002060"><span style="font-family:gill sans mt\,sans-serif"><span style="font-size:16.0pt">Presentation of Colors by R.I. Arsenal 6:45</span></span></span><br />\n<span style="color:#002060"><span style="font-family:gill sans mt\,sans-serif"><span style="font-size:14.0pt">Army Sustainment Command Soldiers</span></span></span><br />\n<span style="font-size:22px">***</span><br />\n<span style="color:#002060"><span style="font-family:gill sans mt\,sans-serif"><span style="font-size:16.0pt">Live Music 7:00 &ndash\; 9:00 PM</span></span></span><br />\n<span style="color:#002060"><span style="font-family:gill sans mt\,sans-serif"><span style="font-size:14.0pt">Past Curfew &ndash\; 80&rsquo\;s Tribute Band</span></span></span><br />\n<big><span style="font-size:22px">***</span></big><br />\n<span style="font-family:comic sans ms"><span style="color:rgb(0\, 32\, 96)"><span style="font-size:16pt">Children&rsquo\;s Carnival - 25&cent\; tickets - </span></span></span></div>\n\n<div style="text-align:center"><span style="font-family:comic sans ms"><span style="font-size:16px"><span style="color:rgb(0\, 32\, 96)">Prizes for every game!</span></span><br />\n<span style="font-size:14px"><span style="color:rgb(0\, 32\, 96)">Many Games * Face Painting * Balloon Artist</span><br />\n<span style="color:rgb(0\, 32\, 96)">Free Bounce House Obstacle Course</span></span></span><br />\n<big><span style="font-size:22px">***</span></big><br />\n<span style="color:#002060"><span style="font-family:gill sans mt\,sans-serif"><span style="font-size:14.0pt">Food &amp\; Drink for Sale</span></span></span><br />\n&nbsp\;<br />\n<br />\n<span style="color:#002060"><span style="font-family:gill sans mt\,sans-serif"><span style="font-size:14.0pt">Rain Date: July 5\, 2018</span></span></span><br />\n<span style="color:white"><span style="font-family:gill sans mt\,sans-serif"><span style="font-size:15.0pt">Bounce House Obstacle Course</span></span></span><br />\n<strong><span style="color:white"><span style="font-family:wingdings"><span style="font-size:18.0pt">&laquo\;&laquo\;&laquo\;</span></span></span></strong><br />\n<br />\n<span style="color:white"><span style="font-family:gill sans mt\,sans-serif"><span style="font-size:16.0pt">Shuttle Service starts from JD Harvester at 6:30 PM</span></span></span><br />\n<span style="color:white"><span style="font-family:calibri\,sans-serif"><span style="font-size:20.0pt">Rain Date: July 5\, 2018</span></span></span></div>\n
LOCATION:In "The Quarter" on the Riverfront 101 Beacon Harbor Parkway East Moline\, IL 61244 Shuttle Service from John Deere Harvester Works located at 1100 13th Avenue\, East Moline\, IL
UID:e.2843.13281
SEQUENCE:3
DTSTAMP:20260423T074452Z
URL:https://member.quadcitieschamber.com/events/details/east-moline-fireworks-13281
END:VEVENT

END:VCALENDAR
