BEGIN:VCALENDAR
VERSION:2.0
PRODID:-//ChamberMaster//Event Calendar 2.0//EN
METHOD:PUBLISH
X-PUBLISHED-TTL:P3D
REFRESH-INTERVAL:P3D
CALSCALE:GREGORIAN
BEGIN:VEVENT
DTSTART:20130618T050000Z
DTEND:20130618T050000Z
X-MICROSOFT-CDO-ALLDAYEVENT:FALSE
SUMMARY:East Moline/Silvis Business Forum
DESCRIPTION:East Moline/Silvis Business Forum
X-ALT-DESC;FMTTYPE=text/html:East Moline/Silvis Business Forum
LOCATION:
UID:e.2843.1814
SEQUENCE:3
DTSTAMP:20260421T134608Z
URL:https://member.quadcitieschamber.com/events/details/east-moline-silvis-business-forum-06-18-2013-1814
END:VEVENT

END:VCALENDAR
