BEGIN:VCALENDAR
VERSION:2.0
PRODID:-//ChamberMaster//Event Calendar 2.0//EN
METHOD:PUBLISH
X-PUBLISHED-TTL:P3D
REFRESH-INTERVAL:P3D
CALSCALE:GREGORIAN
BEGIN:VEVENT
DTSTART:20120408T140000Z
DTEND:20120408T190000Z
X-MICROSOFT-CDO-ALLDAYEVENT:FALSE
SUMMARY:Easter Brunch at Hotel Blackhawk
DESCRIPTION:BRUNCH 9AM TO 2PM\n$30.00 PER PERSON INCLUDES BRUNCH\, COMPLIMENTARY MIMOSAS AND BLOODY MARYS\n$10.95 FOR CHILDREN 8-14 YRS\nFREE FOR CHILDREN 7& UNDER\n25% OFF DISCOUNT  FOR ARMED FORCES & SENIOR CITIZEN \nTHE MEZZ OVER LOOKING THE GRAND FOYER WILL HAVE 8 ACTIONS STATIONS OF GORMET FOOD TO CHOOSE FROM.  \nALL RESERVATIONS ARE FAMILY STYLE.  \nBRUNCH WILL BE SEATED IN THE GOLD ROOM.
X-ALT-DESC;FMTTYPE=text/html:BRUNCH 9AM TO 2PM\n$30.00 PER PERSON INCLUDES BRUNCH\, COMPLIMENTARY MIMOSAS AND BLOODY MARYS\n$10.95 FOR CHILDREN 8-14 YRS\nFREE FOR CHILDREN 7& UNDER\n25% OFF DISCOUNT  FOR ARMED FORCES & SENIOR CITIZEN \nTHE MEZZ OVER LOOKING THE GRAND FOYER WILL HAVE 8 ACTIONS STATIONS OF GORMET FOOD TO CHOOSE FROM.  \nALL RESERVATIONS ARE FAMILY STYLE.  \nBRUNCH WILL BE SEATED IN THE GOLD ROOM.  \n
LOCATION:Hotel Blackhawk200 East Third Street Davenport\, IA 52801
UID:e.2843.109
SEQUENCE:3
DTSTAMP:20260422T031217Z
URL:https://member.quadcitieschamber.com/events/details/easter-brunch-at-hotel-blackhawk-04-08-2012-109
END:VEVENT

END:VCALENDAR
