BEGIN:VCALENDAR
VERSION:2.0
PRODID:-//ChamberMaster//Event Calendar 2.0//EN
METHOD:PUBLISH
X-PUBLISHED-TTL:P3D
REFRESH-INTERVAL:P3D
CALSCALE:GREGORIAN
BEGIN:VEVENT
DTSTART:20120719T190000Z
DTEND:20120719T193000Z
X-MICROSOFT-CDO-ALLDAYEVENT:FALSE
SUMMARY:Eastern Iowa Community College Ribbon Cutting
DESCRIPTION:Please help celebrate the new West Davenport Center of EICC with a ribbon cutting on Thursday\, July 19th at 2:00pm.  Located at 2950 N. Fairmount Street\, next to the Davenport Public Library’s Fairmount Street campus. For more information regarding the Eastern Iowa Community College district\, please visit www.eicc.edu
X-ALT-DESC;FMTTYPE=text/html:<DIV><P style="MARGIN: 0in 0in 0pt" class=MsoNormal><FONT face=Calibri>Please help celebrate the new West Davenport Center of EICC with a ribbon cutting on Thursday\, July 19<SUP>th</SUP> at 2:00pm.<SPAN style="mso-spacerun: yes">&nbsp\; </SPAN>Located at 2950 N. Fairmount Street\, next to the Davenport Public Library’s Fairmount Street campus.</FONT></P><P style="MARGIN: 0in 0in 0pt" class=MsoNormal><?xml:namespace prefix = o ns = "urn:schemas-microsoft-com:office:office" /><o:p><FONT face=Calibri>&nbsp\;</FONT></o:p></P><P style="MARGIN: 0in 0in 0pt" class=MsoNormal><FONT face=Calibri>For more information regarding the Eastern Iowa Community College district\, please visit </FONT><A href="http://www.eicc.edu"><FONT face="Times New Roman">www.eicc.edu</FONT></A></P></DIV>
LOCATION:West Davenport Center\, EICC2950 N. Fairmount Street Davenport\, IA
UID:e.2843.405
SEQUENCE:3
DTSTAMP:20260421T235356Z
URL:https://member.quadcitieschamber.com/events/details/eastern-iowa-community-college-ribbon-cutting-07-19-2012-405
END:VEVENT

END:VCALENDAR
