BEGIN:VCALENDAR
VERSION:2.0
PRODID:-//ChamberMaster//Event Calendar 2.0//EN
METHOD:PUBLISH
X-PUBLISHED-TTL:P3D
REFRESH-INTERVAL:P3D
CALSCALE:GREGORIAN
BEGIN:VEVENT
DTSTART:20120302T160000Z
DTEND:20120302T163000Z
X-MICROSOFT-CDO-ALLDAYEVENT:FALSE
SUMMARY:Eastern Iowa Community College - Solar Array Lighting
DESCRIPTION:Please help Eastern Iowa Community College celebrate the lighting of the solar array on the Mississippi Valley Plaza building on Friday\, March 2nd at 10am.  Located at their Advanced Technology Environmental and Energy Interactive Lab in the first floor of the Mississippi Valley  Plaza building at 201 Harrison Street in Davenport.  This will be the official lighting of their 20 KW solar array.  Speaking will be Dr. Don Doucette\, Chancellor of Eastern Iowa Community Colleges\; Rodney Blackwell\, building owner\; Tim Dwight\, former football star and Business Development Officer for Integrated Power Corporation.
X-ALT-DESC;FMTTYPE=text/html:<DIV><FONT face=Calibri><P style="MARGIN: 0in 0in 0pt" class=MsoNormal>Please help Eastern Iowa Community College celebrate the lighting of the solar array on the Mississippi Valley Plaza building on Friday\, March 2<SUP>nd</SUP> at 10am.<SPAN style="mso-spacerun: yes">&nbsp\; </SPAN>Located at their Advanced Technology Environmental and Energy Interactive Lab in the first floor of the Mississippi Valley<SPAN style="mso-spacerun: yes">&nbsp\; </SPAN>Plaza building at 201 Harrison Street in Davenport.<SPAN style="mso-spacerun: yes">&nbsp\; </SPAN>This will be the official lighting of their 20 KW solar array.<SPAN style="mso-spacerun: yes">&nbsp\; </SPAN>Speaking will be Dr. Don Doucette\, Chancellor of Eastern Iowa Community Colleges\; Rodney Blackwell\, building owner\; Tim Dwight\, former football star and Business Development Officer for Integrated Power Corporation.<SPAN style="mso-spacerun: yes">&nbsp\; </SPAN></P></FONT></DIV>
LOCATION:Mississippi Valley Plaza Building201 Harrison Street Davenport\, IA 52801
UID:e.2843.352
SEQUENCE:3
DTSTAMP:20260421T120808Z
URL:https://member.quadcitieschamber.com/events/details/eastern-iowa-community-college-solar-array-lighting-03-02-2012-352
END:VEVENT

END:VCALENDAR
