BEGIN:VCALENDAR
VERSION:2.0
PRODID:-//ChamberMaster//Event Calendar 2.0//EN
METHOD:PUBLISH
X-PUBLISHED-TTL:P3D
REFRESH-INTERVAL:P3D
CALSCALE:GREGORIAN
BEGIN:VEVENT
DTSTART:20120126T223000Z
DTEND:20120127T003000Z
X-MICROSOFT-CDO-ALLDAYEVENT:FALSE
SUMMARY:Economic Forecast 2012
DESCRIPTION:The 2012 Quad Cities Chamber Economic Forecast event will be hosted at the John Deere World Headquarters\, and will feature Deere’s Chief Economist\, Dr. J.B. Penn. Join us for an analysis of the national and regional economies. Networking and refreshments will follow the presentation. Space is limited.Registration        4:00 p.m.Program               4:30-5:30 p.m.Cocktail Hour     5:30-6:30 p.m. Cost:  $15 for members\; $20 for non-members Sponsored by:   Deere & Co. Moline Dispatch Publishing Company and First Midwest Bank
X-ALT-DESC;FMTTYPE=text/html:<P style="MARGIN: 0in 0in 0pt" class=MsoNormal><FONT face=Calibri>The 2012 Quad Cities Chamber Economic Forecast event will be hosted at the John Deere World Headquarters\, and will feature Deere’s Chief Economist\, Dr. J.B. Penn. </P><P>Join us for an analysis of the national and regional economies. Networking and refreshments will follow the presentation. Space is limited.</FONT></P><P style="MARGIN: 0in 0in 0pt" class=MsoNormal><FONT face=Calibri>Registration<SPAN style="mso-tab-count: 1">&nbsp\;&nbsp\;&nbsp\;&nbsp\;&nbsp\;&nbsp\;&nbsp\; </SPAN>4:00 p.m.<?xml:namespace prefix = o ns = "urn:schemas-microsoft-com:office:office" /><o:p></o:p></FONT></P><P style="MARGIN: 0in 0in 0pt" class=MsoNormal><FONT face=Calibri>Program<SPAN style="mso-tab-count: 1">&nbsp\;&nbsp\;&nbsp\;&nbsp\;&nbsp\;&nbsp\;&nbsp\;&nbsp\;&nbsp\;&nbsp\;&nbsp\;&nbsp\;&nbsp\;&nbsp\; </SPAN>4:30-5:30 p.m.<o:p></o:p></FONT></P><P style="MARGIN: 0in 0in 0pt" class=MsoNormal><FONT face=Calibri>Cocktail Hour <SPAN style="mso-tab-count: 1">&nbsp\;&nbsp\;&nbsp\; </SPAN>5:30-6:30 p.m.<o:p></o:p></FONT></P><P style="MARGIN: 0in 0in 0pt" class=MsoNormal><o:p><FONT face=Calibri>&nbsp\;</FONT></o:p></P><P style="MARGIN: 0in 0in 0pt" class=MsoNormal><FONT face=Calibri>Cost:<SPAN style="mso-spacerun: yes">&nbsp\; </SPAN>$15 for members\; $20 for non-members<o:p></o:p></FONT></P><P style="MARGIN: 0in 0in 0pt" class=MsoNormal><o:p><FONT face=Calibri>&nbsp\;</FONT></o:p></P><P style="MARGIN: 0in 0in 0pt" class=MsoNormal><FONT face=Calibri>Sponsored by: <SPAN style="mso-spacerun: yes">&nbsp\;</SPAN><SPAN style="mso-tab-count: 1"> </SPAN>Deere &amp\; Co. <o:p></o:p></FONT></P><P style="TEXT-INDENT: 0.5in\; MARGIN: 0in 0in 0pt 0.5in" class=MsoNormal><FONT face=Calibri>Moline Dispatch Publishing Company and First Midwest Bank <o:p></o:p></FONT></P><P>&nbsp\;</P>
LOCATION:Deere & CompanyOne John Deere Place Moline\, IL 61265
UID:e.2843.247
SEQUENCE:3
DTSTAMP:20260421T043138Z
URL:https://member.quadcitieschamber.com/events/details/economic-forecast-2012-01-26-2012-247
END:VEVENT

END:VCALENDAR
