BEGIN:VCALENDAR
VERSION:2.0
PRODID:-//ChamberMaster//Event Calendar 2.0//EN
METHOD:PUBLISH
X-PUBLISHED-TTL:P3D
REFRESH-INTERVAL:P3D
CALSCALE:GREGORIAN
BEGIN:VEVENT
DTSTART:20090319T050000Z
DTEND:20090430T050000Z
X-MICROSOFT-CDO-ALLDAYEVENT:FALSE
SUMMARY:Effective Sales Training
DESCRIPTION:Effective Sales Training
X-ALT-DESC;FMTTYPE=text/html:Effective Sales Training
LOCATION:
UID:e.2843.4154
SEQUENCE:3
DTSTAMP:20260424T103950Z
URL:https://member.quadcitieschamber.com/events/details/effective-sales-training-03-19-2009-4154
END:VEVENT

END:VCALENDAR
