BEGIN:VCALENDAR
VERSION:2.0
PRODID:-//ChamberMaster//Event Calendar 2.0//EN
METHOD:PUBLISH
X-PUBLISHED-TTL:P3D
REFRESH-INTERVAL:P3D
CALSCALE:GREGORIAN
BEGIN:VEVENT
DTSTART:20200923T130000Z
DTEND:20200923T170000Z
X-MICROSOFT-CDO-ALLDAYEVENT:FALSE
SUMMARY:EICC Leadership Series\, Leadership: Beyond Management
DESCRIPTION:Earn a microcredential with new leadership training at EICC! Eastern Iowa Community Colleges has always been a leader in providing the best professional development and management training to professionals like yourself. That's why we're excited to announce a great new program that will make it even easier for you to gain valuable skills and showcase your expertise! Our microcredentials are a competency-based form of certification issued for learning experiences that have been developed through faculty\, business and continuing education. EICC microcredentials are meaningful\, of high quality\, and represent measurable learning. You can earn one for your resume with our upcoming online training series: Leadership: Beyond Management The six-course series is specifically tailored to managers looking to improve their leadership capability. The cohort-based program provides proven skills immediately applicable on the job\, using both academic theory and skill-based training. Series facilitator Dr. Randy Richards delivers years of experience teaching\, coaching and consulting on leadership practices. Class will be held online from 8 a.m. to 12 p.m. on the following dates: OCTOBER 7: The emergence of a new leadership mindset OCTOBER 21: Leading change - meeting the challenges of the emerging future NOVEMBER 4: Strengthening organizational adaptive capacity NOVEMBER 18: The future of managing and leading DECEMBER 2: Dialogue and personal transformation DECEMBER 16: My journey\, first steps Register at eicc.edu/beyond
X-ALT-DESC;FMTTYPE=text/html:Earn a microcredential with new leadership training at EICC! Eastern Iowa Community Colleges has always been a leader in providing the best professional development and management training to professionals like yourself. That&#39\;s why we&#39\;re excited to announce a great new program that will make it even easier for you to gain valuable skills and showcase your expertise! Our microcredentials are a competency-based form of certification issued for learning experiences that have been developed through faculty\, business and continuing education. EICC microcredentials are meaningful\, of high quality\, and represent measurable learning. You can earn one for your resume with our upcoming online training series: Leadership: Beyond Management The six-course series is specifically tailored to managers looking to improve their leadership capability. The cohort-based program provides proven skills immediately applicable on the job\, using both academic theory and skill-based training. Series facilitator Dr. Randy Richards delivers years of experience teaching\, coaching and consulting on leadership practices. Class will be held online from 8 a.m. to 12 p.m. on the following dates: OCTOBER 7: The emergence of a new leadership mindset OCTOBER 21: Leading change - meeting the challenges of the emerging future NOVEMBER 4: Strengthening organizational adaptive capacity NOVEMBER 18: The future of managing and leading DECEMBER 2: Dialogue and personal transformation DECEMBER 16: My journey\, first steps Register at eicc.edu/beyond
LOCATION:Online
UID:e.2843.17906
SEQUENCE:3
DTSTAMP:20260421T123712Z
URL:https://member.quadcitieschamber.com/events/details/eicc-leadership-series-leadership-beyond-management-17906
END:VEVENT

END:VCALENDAR
