BEGIN:VCALENDAR
VERSION:2.0
PRODID:-//ChamberMaster//Event Calendar 2.0//EN
METHOD:PUBLISH
X-PUBLISHED-TTL:P3D
REFRESH-INTERVAL:P3D
CALSCALE:GREGORIAN
BEGIN:VEVENT
DTSTART:20210211T143000Z
DTEND:20210211T163000Z
X-MICROSOFT-CDO-ALLDAYEVENT:FALSE
SUMMARY:EICC Offering: SALES IN A DIGITAL WORLD
DESCRIPTION:Are you struggling to build a digital sales strategy?\n\nOr do you need to revamp your sales strategy for 2021?\n\nEastern Iowa Community Colleges can help with our great\, new online class:\n\nSALES IN A DIGITAL WORLD\n\n\n\n \n\nDesigned for all professional levels\, this class will provide training to help you organize a sales strategy\, execute the details and measure performance. You will also learn digital options and strategies for selling. This course is perfect for someone new to sales\, or those who want to refresh their skills with specific\, timely habits necessary to achieve sales success. Series facilitator\, Lisa Wertzbaugher\, offers 15+ years of sales experience in medical\, manufacturing and international sales. This course will offer insight and skill development in sales\, marketing\, product development and business development.\n\n\n\nClass size is limited to 12 students\, which allows for individualized feedback from your program facilitator. Intersession assignments between each class will help you to create a sales strategy specific to your product and sales goals. You will finish this sales training with a long-term yet adaptable strategy for success.\n\n\n\nLEARNING OUTCOMES:\n\n1.  Skill and knowledge to create a digital sales strategy.\n\n2.  How and what to analyze   use of data for sales preparation.\n\n3.  How to build an activity schedule to meet your goals.\n\n4.  The importance of product positioning to gain interest and close sales.\n\n5.  How to build relationships as a sales consultant.\n\n\n\nNote: We will send classroom access instructions two days before the first class.\n\nReserve your spot now here!\n\n\n\n \n\nFor more information\, contact your EICC Business Solutions Team Member:\n\nTim Cottle: 563-244-7065\n\nMichael O'Brien:  563-441-4377\n\nCheryl Riley-Hayles:  563-335-3402\n\nKatie Watson:  563-288-6012\n\nOr call toll-free:  1-888-336-3907\n\nEmail:  eiccinfo@eicc.edu\n\n \nIt is the policy of Eastern Iowa Community College District not to discriminate in its programs\, activities\, or employment on the basis of race\, color\, national origin\, sex\, disability\, age\, sexual orientation\, gender identity\, creed\, religion\, and actual or potential family\, parental or marital status\, as required by the Iowa Code   216.6 and 216.9\, Titles VI and VII of the Civil Rights Act of 1964 (42 U.S.C.    2000d and 2000e)\, the Equal Pay Act of 1973 (29 U.S.C.   206\, et seq.)\, Title IX (Educational Amendments\, 20 U.S.C.    1681-1688)\, Section 504 (Rehabilitation Act of 1973\, 29 U.S.C.   794)\, and Title II of the Americans with Disabilities Act (42 U.S.C.   12101\, et seq.). If you have questions or complaints related to compliance with this policy\, please contact Debora J. Sullivan\, Equal Employment Opportunity Officer/Equity Coordinator\, Eastern Iowa Community College District\, 101 West Third Street\, Davenport\, Iowa 52801\, 563-336-3487\, djsullivan@eicc.edu or the Director of the Office for Civil Rights\, U.S. Department of Education\, Citigroup Center\, 500 West Madison Street\, Suite 1475\, Chicago\, Illinois 60661-7204\, phone number 312-730-1560\, fax 312-730-1576\, OCR.Chicago@ed.gov.
X-ALT-DESC;FMTTYPE=text/html:<div style="text-align:center"><span style="font-size:16px"><strong><span style="font-family:verdana">Are you struggling to build a digital sales strategy?</span></strong></span></div>\n\n<div style="text-align:center"><span style="font-size:16px"><strong><span style="font-family:verdana">Or do you need to revamp your sales strategy for 2021?<br />\nEastern Iowa Community Colleges can help with our great\, new online class:<br />\nSALES IN A DIGITAL WORLD</span></strong></span><br />\n<br />\n&nbsp\;</div>\n\n<div><span style="font-size:14px"><span style="font-family:verdana">Designed for all professional levels\, this class will provide training to help you organize a sales strategy\, execute the details and measure performance. You will also learn digital options and strategies for selling. This course is perfect for someone new to sales\, or those who want to refresh their skills with specific\, timely habits necessary to achieve sales success. Series facilitator\, Lisa Wertzbaugher\, offers 15+ years of sales experience in medical\, manufacturing and international sales. This course will offer insight and skill development in sales\, marketing\, product development and business development.<br />\n<br />\nClass size is limited to 12 students\, which allows for individualized feedback from your program facilitator. Intersession assignments between each class will help you to create a sales strategy specific to your product and sales goals. You will finish this sales training with a long-term yet adaptable strategy for success.<br />\n<br />\nLEARNING OUTCOMES:<br />\n1.&nbsp\; Skill and knowledge to create a digital sales strategy.<br />\n2.&nbsp\; How and what to analyze &mdash\; use of data for sales preparation.<br />\n3.&nbsp\; How to build an activity schedule to meet your goals.<br />\n4.&nbsp\; The importance of product positioning to gain interest and close sales.<br />\n5.&nbsp\; How to build relationships as a sales consultant.<br />\n<br />\nNote: We will send classroom access instructions two days before the first class.</span><br />\nReserve your spot now <a href="https://eicc.augusoft.net/index.cfm?method=ClassInfo.ClassInformation&amp\;int_class_id=14426&amp\;utm_source=ce&amp\;utm_medium=social&amp\;utm_campaign=ProfDevelopment&amp\;utm_content=DigitalStrategy">here</a>!</span><br />\n<br />\n&nbsp\;</div>\n\n<div><span style="font-size:14px"><span style="font-family:verdana">For more information\, contact your EICC Business Solutions Team Member:<br />\nTim Cottle: 563-244-7065<br />\nMichael O&#39\;Brien:&nbsp\; 563-441-4377<br />\nCheryl Riley-Hayles:&nbsp\; 563-335-3402<br />\nKatie Watson:&nbsp\; 563-288-6012<br />\nOr call toll-free:&nbsp\; 1-888-336-3907<br />\nEmail:&nbsp\; eiccinfo@eicc.edu</span></span><br />\n&nbsp\;</div>\n<span style="font-size:10px"><span style="font-family:verdana"><span style="font-size:9px">It is the policy of Eastern Iowa Community College District not to discriminate in its programs\, activities\, or employment on the basis of race\, color\, national origin\, sex\, disability\, age\, sexual orientation\, gender identity\, creed\, religion\, and actual or potential family\, parental or marital status\, as required by the Iowa Code &sect\;&sect\;216.6 and 216.9\, Titles VI and VII of the Civil Rights Act of 1964 (42 U.S.C. &sect\;&sect\; 2000d and 2000e)\, the Equal Pay Act of 1973 (29 U.S.C. &sect\; 206\, et seq.)\, Title IX (Educational Amendments\, 20 U.S.C. &sect\;&sect\; 1681-1688)\, Section 504 (Rehabilitation Act of 1973\, 29 U.S.C. &sect\; 794)\, and Title II of the Americans with Disabilities Act (42 U.S.C. &sect\; 12101\, et seq.). If you have questions or complaints related to compliance with this policy\, please contact Debora J. Sullivan\, Equal Employment Opportunity Officer/Equity Coordinator\, Eastern Iowa Community College District\, 101 West Third Street\, Davenport\, Iowa 52801\, 563-336-3487\, djsullivan@eicc.edu or the Director of the Office for Civil Rights\, U.S.</span> <span style="font-size:9px">Department of Education\, Citigroup Center\, 500 West Madison Street\, Suite 1475\, Chicago\, Illinois 60661-7204\, phone number 312-730-1560\, fax 312-730-1576\, OCR.Chicago@ed.gov.</span></span></span><br />\n&nbsp\;
LOCATION:Delivered Live Online Note: We will send classroom access instructions two days before the first class. Reserve your spot now here!
UID:e.2843.18468
SEQUENCE:3
DTSTAMP:20260421T062845Z
URL:https://member.quadcitieschamber.com/events/details/eicc-offering-sales-in-a-digital-world-02-11-2021-18468
END:VEVENT

END:VCALENDAR
