BEGIN:VCALENDAR
VERSION:2.0
PRODID:-//ChamberMaster//Event Calendar 2.0//EN
METHOD:PUBLISH
X-PUBLISHED-TTL:P3D
REFRESH-INTERVAL:P3D
CALSCALE:GREGORIAN
BEGIN:VEVENT
DTSTART:20210420T233000Z
DTEND:20210421T003000Z
X-MICROSOFT-CDO-ALLDAYEVENT:FALSE
SUMMARY:Elder Law Webinar
DESCRIPTION:Join our FREE Elder Law Webinar\n\nTuesday\, April 20 at 6:30 PM\n\n \n\nAttend this FREE webinar and dispel these common  estate planning & health care myths.\n\n \n\nMy family can talk with my doctors to make medical decisions for me.\n\nIf I tell my family I don't want to be kept alive on machines the doctors will honor my wishes.\n\nIf I need to go to a nursing home\, I can give assets away so I can receive Medicaid.\n\nIn order to qualify for Medicaid I have to spend everything on the nursing home.\n\nCall our office at (309) 762-9368\, (309) 944-2188 or (800) 644-5345 or register online today at\n\nbit.ly/nbfbwebinar
X-ALT-DESC;FMTTYPE=text/html:<span style="font-family:calibri"><span style="font-size:14.5pt">Join our </span></span><strong><span style="font-family:calibri"><span style="font-size:14.5pt">FREE </span></span></strong><span style="font-family:calibri"><span style="font-size:14.5pt">Elder Law Webinar</span></span><br />\n<span style="font-family:calibri"><span style="font-size:14.5pt">Tuesday\, April 20 at 6:30 PM</span></span><br />\n&nbsp\;<br />\n<em><span style="font-family:calibri"><span style="font-size:11.0pt">Attend this FREE webinar and dispel these common&nbsp\; estate planning &amp\; health care myths.</span></span></em><br />\n&nbsp\;<br />\n<span style="font-family:calibri">My family can talk with my doctors to make medical decisions for me.</span><br />\n<span style="font-family:calibri">If I tell my family I don&rsquo\;t want to be kept alive on machines&mdash\;the doctors will honor my wishes.</span><br />\n<span style="font-family:calibri">If I need to go to a nursing home\, I can give assets away so I can receive Medicaid.</span><br />\n<span style="font-family:calibri">In order to qualify for Medicaid I have to spend everything on the nursing home.</span><br />\n<span style="font-family:calibri"><span style="font-size:13.0pt">Call our office at (309) 762-9368\, (309) 944-2188 or (800) 644-5345 or register online today at</span></span><br />\n<a href="https://www.nashbeanford.com/workshops/"><span style="font-family:calibri"><span style="font-size:13.0pt">bit.ly/nbfbwebinar</span></span></a><br />\n&nbsp\;
LOCATION:Online - Webinar
UID:e.2843.18794
SEQUENCE:3
DTSTAMP:20260421T031242Z
URL:https://member.quadcitieschamber.com/events/details/elder-law-webinar-18794
END:VEVENT

END:VCALENDAR
