BEGIN:VCALENDAR
VERSION:2.0
PRODID:-//ChamberMaster//Event Calendar 2.0//EN
METHOD:PUBLISH
X-PUBLISHED-TTL:P3D
REFRESH-INTERVAL:P3D
CALSCALE:GREGORIAN
BEGIN:VEVENT
DTSTART:20131201T060000Z
DTEND:20131201T060000Z
X-MICROSOFT-CDO-ALLDAYEVENT:FALSE
SUMMARY:Elected Officials Reception 2013
DESCRIPTION:Elected Officials Reception 2013
X-ALT-DESC;FMTTYPE=text/html:Elected Officials Reception 2013
LOCATION:TBD
UID:e.2843.1633
SEQUENCE:3
DTSTAMP:20260421T234753Z
URL:https://member.quadcitieschamber.com/events/details/elected-officials-reception-2013-12-01-2013-1633
END:VEVENT

END:VCALENDAR
