BEGIN:VCALENDAR
VERSION:2.0
PRODID:-//ChamberMaster//Event Calendar 2.0//EN
METHOD:PUBLISH
X-PUBLISHED-TTL:P3D
REFRESH-INTERVAL:P3D
CALSCALE:GREGORIAN
BEGIN:VEVENT
DTSTART:20121127T160000Z
DTEND:20121127T163000Z
X-MICROSOFT-CDO-ALLDAYEVENT:FALSE
SUMMARY:Elements Interior Design\, Inc. Ribbon Cutting
DESCRIPTION:Please help welcome new member\, Elements Interior Design\, to the Chamber with a ribbon cutting on Tuesday\, November 27th at 10:00am.  Located at 3416 Towne Pointe Dr. in Bettendorf – same building as Get Me Registered\, Picchiotti Wellness Center\; behind Caddy’s They will be having a holiday event on Saturday\, December 8th from 9am to 2pm – refreshments and a storewide sale
X-ALT-DESC;FMTTYPE=text/html:<P style="MARGIN: 0in 0in 0pt" class=MsoNormal><FONT face=Calibri>Please help welcome new member\, Elements Interior Design\, to the Chamber with a ribbon cutting on Tuesday\, November 27<SUP>th</SUP> at 10:00am.<SPAN style="mso-spacerun: yes">&nbsp\; </SPAN>Located at 3416 Towne Pointe Dr. in Bettendorf – same building as Get Me Registered\, Picchiotti Wellness Center\; behind Caddy’s</FONT></P><P style="MARGIN: 0in 0in 0pt" class=MsoNormal><?xml:namespace prefix = o ns = "urn:schemas-microsoft-com:office:office" /><o:p><FONT face=Calibri>&nbsp\;</FONT></o:p></P><P style="MARGIN: 0in 0in 0pt" class=MsoNormal><FONT face=Calibri>They will be having a holiday event on Saturday\, December 8<SUP>th</SUP> from 9am to 2pm – refreshments and a storewide sale</FONT></P><DIV style="FONT-FAMILY: Arial">&nbsp\;</DIV>
LOCATION:Elements Interior Design\, Inc.3416 Towne Pointe Drive Bettendorf\, IA 52722
UID:e.2843.475
SEQUENCE:3
DTSTAMP:20260421T152242Z
URL:https://member.quadcitieschamber.com/events/details/elements-interior-design-inc-ribbon-cutting-11-27-2012-475
END:VEVENT

END:VCALENDAR
