BEGIN:VCALENDAR
VERSION:2.0
PRODID:-//ChamberMaster//Event Calendar 2.0//EN
METHOD:PUBLISH
X-PUBLISHED-TTL:P3D
REFRESH-INTERVAL:P3D
CALSCALE:GREGORIAN
BEGIN:VEVENT
DTSTART:20200319T130000Z
DTEND:20200319T140000Z
X-MICROSOFT-CDO-ALLDAYEVENT:FALSE
SUMMARY:Webinar: Eleven Steps to Succeed in a Crisis
DESCRIPTION:The coronavirus pandemic is real and there can be quite a bit of fear. Now is not the time to panic\, which will only get in the way of what you need to be doing. While it's completely understandable to be worried\, your best bet is to channel that anxious energy and get prepared NOW ...\n\n\n\nDuring this webinar Marcia Erickson details the 11 most important steps you need to start now ...
X-ALT-DESC;FMTTYPE=text/html:<span style="background-color:rgb(249\, 249\, 249)\; color:rgb(3\, 3\, 3)\; font-family:roboto\,arial\,sans-serif\; font-size:14px">The coronavirus pandemic is real and there can be quite a bit of fear. Now is not the time to panic\, which will only get in the way of what you need to be doing. While it&#39\;s completely understandable to be worried\, your best bet is to channel that anxious energy and get prepared NOW ...<br />\n<br />\nDuring this webinar Marcia Erickson details the 11 most important steps you need to start now ...</span>
LOCATION:This is a webinar\, please register at: https://elevenstepstosucceed.eventbrite.com
UID:e.2843.17802
SEQUENCE:3
DTSTAMP:20260421T221559Z
URL:https://member.quadcitieschamber.com/events/details/eleven-steps-to-succeed-in-a-crisis-17802
END:VEVENT

END:VCALENDAR
