BEGIN:VCALENDAR
VERSION:2.0
PRODID:-//ChamberMaster//Event Calendar 2.0//EN
METHOD:PUBLISH
X-PUBLISHED-TTL:P3D
REFRESH-INTERVAL:P3D
CALSCALE:GREGORIAN
BEGIN:VEVENT
DTSTART:20120228T140000Z
DTEND:20120228T174500Z
X-MICROSOFT-CDO-ALLDAYEVENT:FALSE
SUMMARY:Email & Social Media Marketing Workshop
DESCRIPTION:Email & Social Media Marketing WorkshopStoney Creek Inn • 101 18th Street\, Moline\, ILPresented by the Quad Cities Convention & Visitors Bureau and the Quad Cities Chamber.\nTuesday\, February 28\, 20128:00 - 8:30 AM - Registration & continental breakfast\n8:30 - 10:00 AM - Effectively using email & social media for your organization\n10:00 - 10:15 AM - Break\n10:15 - 11:45 AM - Engagement marketingSpeaker: Steve Robinson\, Senior Regional Development Director\, Constant ContactEffectively using email & social media for your organizationAre you interested in learning how email marketing can help your business grow? Email marketing is an effective\, affordable and easy-to-use way to enhance your organization's image and communicate with your customers and prospects.This session will also cover some of the strategies and best practices to get the most out of your social media activities\, including time management and measuring the return of your activities. Use these low-cost tools to gain visibility\, develop relationships and drive sales and response.We will discuss the various social media outlets that are available\, how they interact together\, how to leverage their inherent strengths\, and how to evaluate them for best use for your business or organization.Engagement marketingThe seminar will answer two questions:How do I generate more repeat business from existing customers?How do I get my customers to refer my organization to others?Building lasting relationships with your existing customers and members drives success. In this seminar\, you'll discover the three components that lead to engagement marketing success.Providing an excellent customer experienceMaking connections that engage your audience and enable an ongoing dialogUsing social media to continue the dialog and engage a broader audienceSee models of how other small businesses\, non-profit associations\, and organizations combine email marketing and social media marketing in order to build connections\, monitor feedback\, share interesting content and drive toward business success.Click https://secure.visitquadcities.com/page.php?page_id=115&event=52 to register.  If you have any questions\, please contact Jessica Waytenick at jwaytenick@visitquadcities.com.
X-ALT-DESC;FMTTYPE=text/html:<DIV><H2>Email &amp\; Social Media Marketing Workshop</H2><P><B>Stoney Creek Inn</B> • 101 18th Street\, Moline\, IL</P><P><I>Presented by the Quad Cities Convention &amp\; Visitors Bureau and the Quad Cities Chamber.<BR>Tuesday\, February 28\, 2012</I></P><P>8:00 - 8:30 AM - Registration &amp\; continental breakfast<BR>8:30 - 10:00 AM - Effectively using email &amp\; social media for your organization<BR>10:00 - 10:15 AM - Break<BR>10:15 - 11:45 AM - Engagement marketing</P><P>Speaker: Steve Robinson\, Senior Regional Development Director\, Constant Contact</P><P><B>Effectively using email &amp\; social media for your organization</B></P><P>Are you interested in learning how email marketing can help your business grow? Email marketing is an effective\, affordable and easy-to-use way to enhance your organization's image and communicate with your customers and prospects.</P><P>This session will also cover some of the strategies and best practices to get the most out of your social media activities\, including time management and measuring the return of your activities. Use these low-cost tools to gain visibility\, develop relationships and drive sales and response.</P><P>We will discuss the various social media outlets that are available\, how they interact together\, how to leverage their inherent strengths\, and how to evaluate them for best use for your business or organization.</P><P><B>Engagement marketing</B></P><P>The seminar will answer two questions:</P><OL><LI>How do I generate more repeat business from existing customers?</LI><LI>How do I get my customers to refer my organization to others?</LI></OL><P>Building lasting relationships with your existing customers and members drives success. In this seminar\, you'll discover the three components that lead to engagement marketing success.</P><UL><LI>Providing an excellent customer experience</LI><LI>Making connections that engage your audience and enable an ongoing dialog</LI><LI>Using social media to continue the dialog and engage a broader audience</LI></UL><P>See models of how other small businesses\, non-profit associations\, and organizations combine email marketing and social media marketing in order to build connections\, monitor feedback\, share interesting content and drive toward business success.</P><P>Click <A href="https://secure.visitquadcities.com/page.php?page_id=115&amp\;event=52 ">https://secure.visitquadcities.com/page.php?page_id=115&amp\;event=52 </A>to register.&nbsp\; If you have any questions\, please contact Jessica Waytenick at <A href="mailto:jwaytenick@visitquadcities.com">jwaytenick@visitquadcities.com</A>. </P></DIV>
LOCATION:Stoney Creek Inn & Conference Center101 18th Street Moline\, IL 61265
UID:e.2843.344
SEQUENCE:3
DTSTAMP:20260422T080501Z
URL:https://member.quadcitieschamber.com/events/details/email-social-media-marketing-workshop-02-28-2012-344
END:VEVENT

END:VCALENDAR
