BEGIN:VCALENDAR
VERSION:2.0
PRODID:-//ChamberMaster//Event Calendar 2.0//EN
METHOD:PUBLISH
X-PUBLISHED-TTL:P3D
REFRESH-INTERVAL:P3D
CALSCALE:GREGORIAN
BEGIN:VEVENT
DTSTART:20180516T233000Z
DTEND:20180517T010000Z
X-MICROSOFT-CDO-ALLDAYEVENT:FALSE
SUMMARY:Emotions! NutritionWorks Holistic Health/May Health Talk
DESCRIPTION:EMOTIONS! They can get the best of us\, but did you know they have a direct affect on your physical health? Have you ever wondered what the difference is between an emotion and a feeling? Please join us at our Free Monthly Health Talk where we will be discussing these topics and explaining how you can balance your emotions naturally\, so your body can heal. This event is Free and open to the public. Plus\, if you come all new guest qualify for a discounted initial consultation!
X-ALT-DESC;FMTTYPE=text/html:EMOTIONS! They can get the best of us\, but did you know they have a direct affect on your physical health? Have you ever wondered what the difference is between an emotion and a feeling? Please join us at our Free Monthly Health Talk where we will be discussing these topics and explaining how you can balance your emotions naturally\, so your body can heal. This event is Free and open to the public. Plus\, if you come all new guest qualify for a discounted initial consultation!
LOCATION:NutritionWorks Holistic Health 2255 Kimberly Road Bettendorf\, IA 52722
UID:e.2843.13252
SEQUENCE:3
DTSTAMP:20260423T110503Z
URL:https://member.quadcitieschamber.com/events/details/emotions-nutritionworks-holistic-health-may-health-talk-13252
END:VEVENT

END:VCALENDAR
