BEGIN:VCALENDAR
VERSION:2.0
PRODID:-//ChamberMaster//Event Calendar 2.0//EN
METHOD:PUBLISH
X-PUBLISHED-TTL:P3D
REFRESH-INTERVAL:P3D
CALSCALE:GREGORIAN
BEGIN:VEVENT
DTSTART:20191114T130000Z
DTEND:20191114T150000Z
X-MICROSOFT-CDO-ALLDAYEVENT:FALSE
SUMMARY:Employee Benefits Breakfast
DESCRIPTION:Join us for a hot breakfast and an engaging presentation by local experts. Learn how workers' compensation\, benefits\, retirement plans\, and employee training affect your employees and your business. \n\n\n\nTopics include: \n\nWorkers Compensation - Tate Featherstone\, Gallagher \n\nHealth Reform 2020 and Beyond - Stefanie Belanger\, Group Benefits Consulting Quad Cities\n\nRetirement Plan Options for Business Owners - Tom Lastuvka\, Qualified Plan Consultants\n\nProviding Growth Opportunities for Employees: Why Training is Important - Alex McLeran - Total Solutions\n\n\n\nRSVP for this free event:  https://bit.ly/32fxpvB
X-ALT-DESC;FMTTYPE=text/html:<span style="color:rgb(29\, 33\, 41)\; font-family:helvetica\,arial\,sans-serif\; font-size:14px">Join us for a hot breakfast and an engaging presentation by local experts. Learn how workers&rsquo\; compensation\, benefits\, retirement plans\, and employee training affect your employees and your business. </span><br />\n<br />\n<span style="color:rgb(29\, 33\, 41)\; font-family:helvetica\,arial\,sans-serif\; font-size:14px">Topics include: </span><br />\n<span style="color:rgb(29\, 33\, 41)\; font-family:helvetica\,arial\,sans-serif\; font-size:14px">Workers Compensation - Tate Featherstone\, Gallagher </span><br />\n<span style="color:rgb(29\, 33\, 41)\; font-family:helvetica\,arial\,sans-serif\; font-size:14px">Health Reform 2020 and Beyond - Stefanie Belanger\, Group Benefits Consulting Quad Cities</span><br />\n<span style="color:rgb(29\, 33\, 41)\; font-family:helvetica\,arial\,sans-serif\; font-size:14px">Retirement Plan Options for Business Owners - Tom Lastuvka\, Qualified Plan Consultants</span><br />\n<span style="color:rgb(29\, 33\, 41)\; font-family:helvetica\,arial\,sans-serif\; font-size:14px">Providing Growth Opportunities for Employees: Why Training is Important - Alex McLeran - Total Solutions<br />\n<br />\nRSVP for this free event:&nbsp\;&nbsp\;</span>https://bit.ly/32fxpvB
LOCATION:Birchwood Fields Learning Center 4620 East 53rd Street\, Davenport\, IA\, 52807
UID:e.2843.16911
SEQUENCE:3
DTSTAMP:20260422T082739Z
URL:https://member.quadcitieschamber.com/events/details/employee-benefits-breakfast-16911
END:VEVENT

END:VCALENDAR
