BEGIN:VCALENDAR
VERSION:2.0
PRODID:-//ChamberMaster//Event Calendar 2.0//EN
METHOD:PUBLISH
X-PUBLISHED-TTL:P3D
REFRESH-INTERVAL:P3D
CALSCALE:GREGORIAN
BEGIN:VEVENT
DTSTART:20210121T190000Z
DTEND:20210121T200000Z
X-MICROSOFT-CDO-ALLDAYEVENT:FALSE
SUMMARY:Employee Benefits Landscape: 2020 Recap and 2021 Forecasts (Webinar)
DESCRIPTION:Join our kick-off 2021 educational webinar with guest expert\, Cheryl Matochik\, Managing Director of Third Horizons Strategies. In this hour-long session\, we will analyze 2020 employee benefits milestones and impacts and also forecast anticipated 2021 benefits trends. This webinar is free.\n\n\n\nRegister here: https://quadcities.aleragroup.com/event/employee-benefits-landscape-2020-recap-and-2021-forecasts-012120/
X-ALT-DESC;FMTTYPE=text/html:<span style="font-size:14px"><span style="color:rgb(33\, 37\, 41)\; font-family:open sans\,sans-serif">Join our kick-off 2021 educational webinar with guest expert\, Cheryl Matochik\, Managing Director of Third Horizons Strategies. In this hour-long session\, we will analyze 2020 employee benefits milestones and impacts and also forecast anticipated 2021 benefits trends. This webinar is free.<br />\n<br />\n<strong>Register here</strong>:&nbsp\;</span><a href="https://quadcities.aleragroup.com/event/employee-benefits-landscape-2020-recap-and-2021-forecasts-012120/" target="_blank">https://quadcities.aleragroup.com/event/employee-benefits-landscape-2020-recap-and-2021-forecasts-012120/</a></span>
LOCATION:Webinar/Virtual: https://quadcities.aleragroup.com/event/employee-benefits-landscape-2020-recap-and-2021-forecasts-012120/
UID:e.2843.18370
SEQUENCE:3
DTSTAMP:20260421T062852Z
URL:https://member.quadcitieschamber.com/events/details/employee-benefits-landscape-2020-recap-and-2021-forecasts-webinar-18370
END:VEVENT

END:VCALENDAR
