BEGIN:VCALENDAR
VERSION:2.0
PRODID:-//ChamberMaster//Event Calendar 2.0//EN
METHOD:PUBLISH
X-PUBLISHED-TTL:P3D
REFRESH-INTERVAL:P3D
CALSCALE:GREGORIAN
BEGIN:VEVENT
DTSTART:20190207T140000Z
DTEND:20190207T221500Z
X-MICROSOFT-CDO-ALLDAYEVENT:FALSE
SUMMARY:Employment Law Update - Federal/Iowa/Illinois
DESCRIPTION:Almost every decision made as an HR professional is fraught with legal landmines that can bring frustration\, fear\, and lawsuits. Join our legal experts as they untangle misconceptions and eliminate confusion. Expert attorneys will cover #MeToo\, hiring best practices\, immigration alerts\, workplace violence\, along with Iowa\, Illinois\, and Federal law changes affecting business\, and more. At MRA's annual Employment Law Update you will walk away with an understanding of the latest employment-related legal developments and how to deal with them effectively. Topics include:   Immigration Alerts   What Every Employer Should Know   Address and Preventing Workplace Violence: Factors to Consider   How to Navigate FMLA\, ADA\, and WC   Hiring Best Practices   Practical Advice and Liability Avoidance   #MeToo - Navigating the New Era of Workplace Harassment   Legal Implications for a Drug Free Workplace 6 HRCI/SHRM credits applied for.
X-ALT-DESC;FMTTYPE=text/html:Almost every decision made as an HR professional is fraught with legal landmines that can bring frustration\, fear\, and lawsuits. Join our legal experts as they untangle misconceptions and eliminate confusion. Expert attorneys will cover #MeToo\, hiring best practices\, immigration alerts\, workplace violence\, along with Iowa\, Illinois\, and Federal law changes affecting business\, and more. At MRA&rsquo\;s annual Employment Law Update you will walk away with an understanding of the latest employment-related legal developments and how to deal with them effectively. Topics include: &bull\; Immigration Alerts &ndash\; What Every Employer Should Know &bull\; Address and Preventing Workplace Violence: Factors to Consider &bull\; How to Navigate FMLA\, ADA\, and WC &bull\; Hiring Best Practices &ndash\; Practical Advice and Liability Avoidance &bull\; #MeToo - Navigating the New Era of Workplace Harassment &bull\; Legal Implications for a Drug Free Workplace 6 HRCI/SHRM credits applied for.
LOCATION:Quad-Cities Waterfront Convention Center 2021 State Street Bettendorf\, IA 52722
UID:e.2843.13757
SEQUENCE:3
DTSTAMP:20260422T200803Z
URL:https://member.quadcitieschamber.com/events/details/employment-law-update-federal-iowa-illinois-13757
END:VEVENT

END:VCALENDAR
