BEGIN:VCALENDAR
VERSION:2.0
PRODID:-//ChamberMaster//Event Calendar 2.0//EN
METHOD:PUBLISH
X-PUBLISHED-TTL:P3D
REFRESH-INTERVAL:P3D
CALSCALE:GREGORIAN
BEGIN:VEVENT
DTSTART:20201209T170000Z
DTEND:20201209T180000Z
X-MICROSOFT-CDO-ALLDAYEVENT:FALSE
SUMMARY:End of Year Compliance Roundup - An overview of significant compliance topics in 2020\, with a look at what to expect in 2021.
DESCRIPTION:During our final webinar of our 2020 Educational Webinar Series\, Stacy H. Barrow\, Esq. provides an overview of significant compliance topics in 2020\, along with a look at what to expect in 2021. Stacy will review legal and regulatory changes under the ACA in 2020\, a review of other agency guidance in 2020 applicable to health and welfare plans\, an update on recent court cases affecting health and welfare plans\, and what to expect in 2021.\n\nKey takeaways include:\n\n\n	A better understanding of major changes in employee benefits law in 2020\n	Knowledge of court cases which were most impactful to employee benefit plans in 2020\n	An understanding of potential changes and guidance expected for 2021\n\nRegister for this free webinar here: https://quadcities.aleragroup.com/event/end-of-year-compliance-roundup-120920/
X-ALT-DESC;FMTTYPE=text/html:<p>During our final webinar of our 2020 Educational Webinar Series\, Stacy H. Barrow\, Esq. provides an overview of significant compliance topics in 2020\, along with a look at what to expect in 2021. Stacy will review legal and regulatory changes under the ACA in 2020\, a review of other agency guidance in 2020 applicable to health and welfare plans\, an update on recent court cases affecting health and welfare plans\, and what to expect in 2021.</p>\n\n<p><span style="font-size:inherit">Key takeaways include:</span></p>\n\n<ol>\n	<li>A better understanding of major changes in employee benefits law in 2020</li>\n	<li>Knowledge of court cases which were most impactful to employee benefit plans in 2020</li>\n	<li>An understanding of potential changes and guidance expected for 2021</li>\n</ol>\nRegister for this free webinar here:&nbsp\;<a href="https://quadcities.aleragroup.com/event/end-of-year-compliance-roundup-120920/" target="_blank">https://quadcities.aleragroup.com/event/end-of-year-compliance-roundup-120920/</a>
LOCATION:Webinar: https://quadcities.aleragroup.com/event/end-of-year-compliance-roundup-120920/
UID:e.2843.18369
SEQUENCE:3
DTSTAMP:20260421T095355Z
URL:https://member.quadcitieschamber.com/events/details/end-of-year-compliance-roundup-an-overview-of-significant-compliance-topics-in-2020-with-a-look-at-what-to-expect-in-2021-18369
END:VEVENT

END:VCALENDAR
