BEGIN:VCALENDAR
VERSION:2.0
PRODID:-//ChamberMaster//Event Calendar 2.0//EN
METHOD:PUBLISH
X-PUBLISHED-TTL:P3D
REFRESH-INTERVAL:P3D
CALSCALE:GREGORIAN
BEGIN:VEVENT
DTSTART:20190302T011000Z
DTEND:20190302T040000Z
X-MICROSOFT-CDO-ALLDAYEVENT:FALSE
SUMMARY:enJOY the Storm!
DESCRIPTION:Come support Jordan's Joy at the Quad City Storm game! The Storm takes on the Roanoke Rail Yard Dawgs for Country Night\; $2 beers\, $2 hot dogs\, and a chance to support the Quad City's #smallbutmighty foundation\, Jordan's Joy! Tickets MUST BE purchased through our link at https://fevo.me/Jordansjoy\n\nwith a portion of each ticket sold through the link going to us! Invite your friends for a night of family fun and help us continue to spread JOY in our area!
X-ALT-DESC;FMTTYPE=text/html:<span style="background-color:rgb(255\, 255\, 255)\; color:rgb(29\, 33\, 41)\; font-family:helvetica\,arial\,sans-serif\; font-size:14px">Come support Jordan&#39\;s Joy at the Quad City Storm game! The Storm takes on the Roanoke Rail Yard Dawgs for Country Night\; $2 beers\, $2 hot dogs\, and a chance to support the Quad City&#39\;s </span><a href="https://www.facebook.com/hashtag/smallbutmighty" style="color: rgb(54\, 88\, 153)\; cursor: pointer\; text-decoration-line: none\; font-family: Helvetica\, Arial\, sans-serif\; font-size: 14px\; white-space: pre-wrap\; background-color: rgb(255\, 255\, 255)\;" target="_blank">#smallbutmighty</a><span style="background-color:rgb(255\, 255\, 255)\; color:rgb(29\, 33\, 41)\; font-family:helvetica\,arial\,sans-serif\; font-size:14px"> foundation\, Jordan&#39\;s Joy! Tickets MUST BE purchased through our link at </span><a href="https://fevo.me/Jordansjoy?fbclid=IwAR1z-J-qeElqAJ7r_T18CcFwWcOpIlJJRWqMSjwPamOu_1qUa_1VBXXhu-0" rel="nofollow noopener" style="color: rgb(54\, 88\, 153)\; cursor: pointer\; text-decoration-line: none\; font-family: Helvetica\, Arial\, sans-serif\; font-size: 14px\; white-space: pre-wrap\; background-color: rgb(255\, 255\, 255)\;" target="_blank">https://fevo.me/Jordansjoy</a><br />\n<span style="background-color:rgb(255\, 255\, 255)\; color:rgb(29\, 33\, 41)\; font-family:helvetica\,arial\,sans-serif\; font-size:14px">with a portion of each ticket sold through the link going to us! Invite your friends for a night of family fun and help us continue to spread JOY in our area! </span>
LOCATION:TaxSlayer Center at 1201 River Dr\, Moline\, IL 61265
UID:e.2843.13760
SEQUENCE:3
DTSTAMP:20260422T195641Z
URL:https://member.quadcitieschamber.com/events/details/enjoy-the-storm-13760
END:VEVENT

END:VCALENDAR
