BEGIN:VCALENDAR
VERSION:2.0
PRODID:-//ChamberMaster//Event Calendar 2.0//EN
METHOD:PUBLISH
X-PUBLISHED-TTL:P3D
REFRESH-INTERVAL:P3D
CALSCALE:GREGORIAN
BEGIN:VEVENT
DTSTART:20170328T163000Z
DTEND:20170328T180000Z
X-MICROSOFT-CDO-ALLDAYEVENT:FALSE
SUMMARY:Ethics in Business Analysis: What is appropriate creeping with Dan Conway
DESCRIPTION:In a world of profiling\, predicting when customers are pregnant\, capturing license plate information from health clinic parking lots\, we are all "the product". While analytics and data science can be technically challenging\, the biggest roadblock to success results from our lack of confidence in trying to answer the very human question: "Should we be doing this?" In this hour\, Dr. Dan Conway will give us a look at a framework and repeatable process for addressing this question. The goal is to make ethical reasoning an integral part of all analytics efforts\, so that we are not just confident that yes\, we should be doing this\, but we are emboldened to be great at it. Dr. Daniel Conway recently finished his role as Professor in Residence at Cisco Systems. He serves on faculty at Notre Dame\, University of South Florida\, and Loras College\, and has been a past faculty member at Northwestern\, Indiana University\, VA Tech\, University of FL\, and Iowa. He's on the INFORMS Analytics Maturity Model board\, program committee of the SAE IoT effort\, and columnist for Cognitive World. He is active in consulting for information security plus healthcare\, agriculture\, and supply chain analytics. Outside of work\, he is married with seven children and plays jazz piano. RSVP now: http://tippie.biz.uiowa.edu/professional-mba/calendar/register.cfm?eid=12153
X-ALT-DESC;FMTTYPE=text/html:In a world of profiling\, predicting when customers are pregnant\, capturing license plate information from health clinic parking lots\, we are all &quot\;the product&quot\;. While analytics and data science can be technically challenging\, the biggest roadblock to success results from our lack of confidence in trying to answer the very human question: &quot\;Should we be doing this?&quot\; In this hour\, Dr. Dan Conway will give us a look at a framework and repeatable process for addressing this question. The goal is to make ethical reasoning an integral part of all analytics efforts\, so that we are not just confident that yes\, we should be doing this\, but we are emboldened to be great at it. Dr. Daniel Conway recently finished his role as Professor in Residence at Cisco Systems. He serves on faculty at Notre Dame\, University of South Florida\, and Loras College\, and has been a past faculty member at Northwestern\, Indiana University\, VA Tech\, University of FL\, and Iowa. He&#39\;s on the INFORMS Analytics Maturity Model board\, program committee of the SAE IoT effort\, and columnist for Cognitive World. He is active in consulting for information security plus healthcare\, agriculture\, and supply chain analytics. Outside of work\, he is married with seven children and plays jazz piano. RSVP now: <a href="http://tippie.biz.uiowa.edu/professional-mba/calendar/register.cfm?eid=12153">http://tippie.biz.uiowa.edu/professional-mba/calendar/register.cfm?eid=12153</a>
LOCATION:QC Birchwood Fields Learning Center 4620 East 53rd Street Davenport\, IA 52807
UID:e.2843.4741
SEQUENCE:3
DTSTAMP:20260424T055101Z
URL:https://member.quadcitieschamber.com/events/details/ethics-in-business-analysis-what-is-appropriate-creeping-with-dan-conway-4741
END:VEVENT

END:VCALENDAR
