BEGIN:VCALENDAR
VERSION:2.0
PRODID:-//ChamberMaster//Event Calendar 2.0//EN
METHOD:PUBLISH
X-PUBLISHED-TTL:P3D
REFRESH-INTERVAL:P3D
CALSCALE:GREGORIAN
BEGIN:VEVENT
DTSTART:20200117T230000Z
DTEND:20200118T010000Z
X-MICROSOFT-CDO-ALLDAYEVENT:FALSE
SUMMARY:EVAC Artist and Curator's Panel
DESCRIPTION:A panel discussion featuring the curators of the Experiencing Artists and Veterans Collaboration (EVAC) project and an artist featured in the exhibit will provide an in-depth look at the process of interviewing veterans and turning those interviews into compelling representations of their experience. All visitors to the Arsenal will need to obtain a visitor's pass at the Visitor Control Center adjacent to the Moline Gate (23 Prospect Drive\, 61265)
X-ALT-DESC;FMTTYPE=text/html:A panel discussion featuring the curators of the Experiencing Artists and Veterans Collaboration (EVAC) project and an artist featured in the exhibit will provide an in-depth look at the process of interviewing veterans and turning those interviews into compelling representations of their experience. All visitors to the Arsenal will need to obtain a visitor&#39\;s pass at the Visitor Control Center adjacent to the Moline Gate (23 Prospect Drive\, 61265)
LOCATION:Rock Island Arsenal Museum 3500 N. Avenue\, BLDG 60 Rock Island\, IL 61299-5000
UID:e.2843.17468
SEQUENCE:3
DTSTAMP:20260422T015113Z
URL:https://member.quadcitieschamber.com/events/details/evac-artist-and-curator-s-panel-17468
END:VEVENT

END:VCALENDAR
