BEGIN:VCALENDAR
VERSION:2.0
PRODID:-//ChamberMaster//Event Calendar 2.0//EN
METHOD:PUBLISH
X-PUBLISHED-TTL:P3D
REFRESH-INTERVAL:P3D
CALSCALE:GREGORIAN
BEGIN:VEVENT
DTSTART:20090727T050000Z
DTEND:20090727T050000Z
X-MICROSOFT-CDO-ALLDAYEVENT:FALSE
SUMMARY:Exclusive DavenportOne Update From Tara Barney
DESCRIPTION:Exclusive DavenportOne Update From Tara Barney
X-ALT-DESC;FMTTYPE=text/html:Exclusive DavenportOne Update From Tara Barney
LOCATION:
UID:e.2843.4184
SEQUENCE:3
DTSTAMP:20260424T061532Z
URL:https://member.quadcitieschamber.com/events/details/exclusive-davenportone-update-from-tara-barney-07-27-2009-4184
END:VEVENT

END:VCALENDAR
